Workbook

Sheet Main Menu
A2: Tourism Establishments Statistics for Q2 of 2026
A4: Table Title | B4: Table No.
A5: Time series of key indicators | B5: 1
A6: Number of licensed tourist hospitality facilities | B6: 1.1
A7: Occupancy rate in tourist hospitality facilities | B7: 1.2
A8: Average daily rate in tourist hospitality facilities | B8: 1.3
A9: Average length of stay in tourist hospitality facilities | B9: 1.4
A10: Key indicators of tourism employees | B10: 1.5
A11: Key indicators of tourism establishments | B11: 1.6
A12: Indicators of licensed hospitality facilities | B12: 2
A13: Number of licensed tourist hospitality facilities by regions and facility type for Q2 of 2026 | B13: 2.1
A14: Number of available rooms in licensed tourist hospitality facilities by regions and facility type for Q2of 2026 | B14: 2.2
A15: Occupancy rate in serviced apartments and other hospitality facilities by regions and month for Q2 of 2026 | B15: 2.3
A16: Occupancy rate in hotels by regions and month for Q2 of 2026 | B16: 2.4
A17: Occupancy rate in tourism hospitality facilities by major cities and governorates and facility type for Q2 of 2026 | B17: 2.5
A18: Occupancy rate in tourism hospitality facilities by major cities and governorates and month for Q2 of 2026 | B18: 2.6
... A21: Average daily rate in serviced apartments and other hospitality facilities by regions and month for Q2 of 2026 | B21: 2.9
A22: Average daily rate in hotels by regions and month for Q2 of 2026 | B22: 2.10
A23: Average daily rate in tourism hospitality facilities by major cities and governorates and facility type for Q2 of 2026 | B23: 2.11
A24: Average daily rate in tourism hospitality facilities by major cities and governorates and month for Q2 of 2026 | B24: 2.12
A25: Average daily rate in serviced apartments and other hospitality facilities by major cities and governorates and month for Q2 of 2026 | B25: 2.13
A26: Average daily rate in hotels by major cities and governorates and month for Q2of 2026 | B26: 2.14
A27: Average length of stay in serviced apartments and other hospitality facilities by regions and month in Q2 of 2026 | B27: 2.15
A28: Average length of stay in hotels by regions and month in Q2 of 2026 | B28: 2.16
A29: Average length of stay in tourism hospitality facilities by major cities and governorates and facility type for Q2 of 2026 | B29: 2.17
A30: Average length of stay in tourism hospitality facilities by major cities and governorates and month for tQ2 of 2026 | B30: 2.18
A31: Average length of stay in serviced apartments and other hospitality facilities by major cities and governorates and month for Q2 of 2026 | B31: 2.19
A32: Average length of stay in hotels by major cities and governorates and month for Q2 of 2026 | B32: 2.20
A33: Change over Q2 of 2025 in occupancy rate of serviced apartments and other hospitality facilities by region | B33: 2.21
A34: Change over Q2 of 2025 in occupancy rate of hotels by region | B34: 2.22
A35: Change over Q2 of 2025 in average daily rate of serviced apartments and other hospitality facilities by region | B35: 2.23
A36: Change over Q2 of 2025 in average daily rate of hotels by region | B36: 2.24
A37: Change over Q2 of 2025 in average legth of stay of serviced apartments other hospitality facilities by region | B37: 2.25
A38: Change over Q2 of 2025 in average length of stay of hotels by region | B38: 2.26
A39: Change over Q2 of 2025 in occupancy rate by month and type of facility | B39: 2.27
A40: Change over Q2 of 2025 in average daily rate by month and type of facility | B40: 2.28
A41: Change over Q2 of 2025 in the average length of stay by month and type of facility | B41: 2.29
A42: Indicators of tourism employees | B42: 3
A43: Number of Saudi employees in tourism activities by gender and activity for Q2 of 2026 | B43: 3.1
A44: Number of non-Saudi employees in tourism activities by gender and activity for Q2 of 2026 | B44: 3.2
A45: Total number of employees in tourism activities by gender and activity for Q2 of 2026 | B45: 3.3
A46: Number of Saudi employees in tourism activities by gender and regions for Q2 of 2026 | B46: 3.4
A47: Number of non-Saudi employees in tourism activities by gender and regions for Q2 of 2026 | B47: 3.5
A48: Total number of employees in tourism activities by gender and regions for Q2 of 2026 | B48: 3.6
A49: Change over Q2 of 2025 in number of Saudi employees in tourism activities by activity | B49: 3.7
A50: Change over Q2 of 2025 in number of non-Saudi employees in tourism activities by activity | B50: 3.8
A51: Change over Q2 of 2025 in male employees in tourism activities by activity | B51: 3.9
A52: Change over Q2 of 2025 in female employees in tourism activities by activity | B52: 3.1
A53: Change over Q2 of 2025 in total employees in tourism activities by activity | B53: 3.11
... A61: Tourism establishments by region for Q2 of 2026 | B61: 4.2

Sheet 1.1
A2: Number of licensed tourist hospitality facilities
A3: Table 1.1
A4: Quarter | B4: Number of serviced apartments and other hospitality facilities | C4: Number of hotels | D4: Total licensed hospitality
A5: Q1 of 2024 | B5: 1361 | C5: 1441 | D5: 2802
A6: Q2 of 2024 | B6: 1675 | C6: 1696 | D6: 3371
A7: Q3 of 2024 | B7: 2027 | C7: 1971 | D7: 3998
A8: Q4 of 2024 | B8: 2262 | C8: 2163 | D8: 4425
A9: Q1 of 2025 | B9: 2574 | C9: 2414 | D9: 4988
A10: Q2 of 2025 | B10: 2799 | C10: 2527 | D10: 5326
A11: Q3 of 2025 | B11: 2955 | C11: 2667 | D11: 5622
A12: Q4 of 2025 | B12: 3090 | C12: 2847 | D12: 5937
A13: Q1 of 2026 | B13: 3159 | C13: 2963 | D13: 6122
A14: Q2 of 2026 | B14: 3258 | C14: 3020 | D14: 6278
A15: Source: Ministry of Tourism - (Preliminary Data). | D15: Back to Main Menu

Sheet 1.2
A2: Occupancy rate in tourist hospitality facilities
A3: Table 1.2
A4: Quarter | B4: Occupancy rate in serviced apartments and other hospitality facilities | C4: Occupancy rate in hotels
A5: Q1 of 2023 | B5: 0.53006951 | C5: 0.63209641
A6: Q2 of 2023 | B6: 0.50874209 | C6: 0.54873567
A7: Q3 of 2023 | B7: 0.56246833 | C7: 0.53386953
A8: Q4 of 2023 | B8: 0.55386037 | C8: 0.60204289
A9: Q1 of 2024 | B9: 0.54460763 | C9: 0.60916603
A10: Q2 of 2024 | B10: 0.5235359 | C10: 0.55418167
A11: Q3 of 2024 | B11: 0.57957795 | C11: 0.46130984
A12: Q4 of 2024 | B12: 0.55865316 | C12: 0.55953775
A13: Q1 of 2025 | B13: 0.50674652 | C13: 0.62985206
A14: Q2 of 2025 | B14: 0.50156112 | C14: 0.53237837
A15: Q3 of 2025 | B15: 0.57439453 | C15: 0.49063111
A16: Q4 of 2025 | B16: 0.55939882 | C16: 0.57315758
... A18: Q2of 2026 | B18: 0.46498992 | C18: 0.50988367
A19: Source: Ministry of Tourism - Tourism Monitoring Platform (Preliminary Data). | C19: Back to Main Menu

Sheet 1.3
A2: Average daily rate in tourist hospitality facilities
A3: Table 1.3
A4: Quarter | B4: Average daily rate in serviced apartments and other hospitality facilities | C4: Average daily rate in hotels
A5: Q1 of 2023 | B5: 204.51338 | C5: 515.1258
A6: Q2 of 2023 | B6: 220.69524 | C6: 756.07626
A7: Q3 of 2023 | B7: 221.73331 | C7: 442.58363
A8: Q4 of 2023 | B8: 217.76291 | C8: 447.17347
A9: Q1 of 2024 | B9: 194.74223 | C9: 494.01818
A10: Q2 of 2024 | B10: 198.59382 | C10: 668.76488
A11: Q3 of 2024 | B11: 199.95254 | C11: 353.65926
A12: Q4 of 2024 | B12: 219.62684 | C12: 440.05704
A13: Q1 of 2025 | B13: 208.58492 | C13: 477.46479
A14: Q2 of 2025 | B14: 201.49284 | C14: 643.44069
A15: Q3 of 2025 | B15: 208.19734 | C15: 340.90388
A16: Q4 of 2025 | B16: 207.09967 | C16: 388.24789
... A18: Q2of 2026 | B18: 197.20727 | C18: 563.0993
A19: Source: Ministry of Tourism - Tourism Monitoring Platform (Preliminary data). | C19: Back to Main Menu
A20: Note: The average daily rate does not include Value Added Tax (VAT) or municipal service fees.

Sheet 1.4
A2: Average length of stay in tourist hospitality facilities
A3: Table 1.4 | C3: Night
A4: Quarter | B4: Average length of stay in serviced apartments and other hospitality facilities | C4: Average length of stay in hotels
A5: Q1 of 2023 | B5: 2.52492 | C5: 3.6572438
A6: Q2 of 2023 | B6: 2.3729387 | C6: 4.3910586
A7: Q3 of 2023 | B7: 2.5266185 | C7: 3.7261532
A8: Q4 of 2023 | B8: 2.4349946 | C8: 3.5980752
A9: Q1 of 2024 | B9: 2.189869 | C9: 4.1176123
A10: Q2 of 2024 | B10: 2.114702 | C10: 5.1626716
A11: Q3 of 2024 | B11: 2.1123319 | C11: 4.1509486
A12: Q4 of 2024 | B12: 2.1386761 | C12: 3.6377577
A13: Q1 of 2025 | B13: 2.1249841 | C13: 4.099562
A14: Q2 of 2025 | B14: 2.0313327 | C14: 4.8304026
A15: Q3 of 2025 | B15: 2.107215 | C15: 4.1089824
A16: Q4 of 2025 | B16: 2.2158398 | C16: 3.810223
... A18: Q2of 2026 | B18: 2.0517116 | C18: 4.991303
A19: Source: Ministry of Tourism - Tourism Monitoring Platform (Preliminary Data). | C19: Back to Main Menu

Sheet 1.5
A2: Key indicators of tourism employees
A3: Table 1.5
A4: Quarter | B4: Total number of Saudi employees | C4: Total number of non-Saudi employees | D4: Total employees | E4: The percentage of female employees out of total employees
A5: Q1 of 2023 | B5: 239740 | C5: 660792 | D5: 900532 | E5: 0.13069053
A6: Q2 of 2023 | B6: 242113 | C6: 670084 | D6: 912197 | E6: 0.13173141
A7: Q3 of 2023 | B7: 243949 | C7: 675223 | D7: 919172 | E7: 0.13345816
A8: Q4 of 2023 | B8: 244898 | C8: 684506 | D8: 929404 | E8: 0.13345757
A9: Q1 of 2024 | B9: 247713 | C9: 696586 | D9: 944299 | E9: 0.13437375
A10: Q2 of 2024 | B10: 245905 | C10: 713270 | D10: 959175 | E10: 0.13355123
A11: Q3 of 2024 | B11: 240771 | C11: 707858 | D11: 948629 | E11: 0.13289178
A12: Q4 of 2024 | B12: 242073 | C12: 724458 | D12: 966531 | E12: 0.13301074
A13: Q1 of 2025 | B13: 243369 | C13: 739884 | D13: 983253 | E13: 0.13160499
A14: Q2 of 2025 | B14: 247600 | C14: 749757 | D14: 997357 | E14: 0.13208009
A15: Q3 of 2025 | B15: 245171 | C15: 764520 | D15: 1009691 | E15: 0.13274655
A16: Q4 of 2025 | B16: 247481 | C16: 783093 | D16: 1030574 | E16: 0.13259601
... A18: Q2of 2026 | B18: 258043 | C18: 811077 | D18: 1069120 | E18: 0.13196716
A19: Source: The Ministry of Human Resources and Social Development. | E19: Back to Main Menu

Sheet 1.6 
A2: Key indicators of tourism establishments
A3: Table 1.6
A4: Quarter | B4: Number of tourism etablishments
A5: Q1 of 2022 | B5: 109681
A6: Q2 of 2022 | B6: 115366
A7: Q3 of 2022 | B7: 118087
A8: Q4 of 2022 | B8: 121779
A9: Q1 of 2023 | B9: 124977
A10: Q2 of 2023 | B10: 127767
A11: Q3 of 2023 | B11: 130379
A12: Q4 of 2023 | B12: 134098
A13: Q1 of 2024 | B13: 138267
A14: Q2 of 2024 | B14: 141585
A15: Q3 of 2024 | B15: 147310
A16: Q4 of 2024 | B16: 154411
... A22: Q2of 2026 | B22: 179507
A23: Source: The Ministry of Human Resources and Social Development - The number includes establishments that have employees. | B23: Back to Main Menu

Sheet 2.1
A2: Number of licensed tourist hospitality facilities by regions and facility type for Q2 of 2026
A3: Table 2.1
A4: Administrative regionss | C4: Number of serviced apartments and other hospitality facilities | D4: Number of hotels | E4: Total licensed facilities
A5: 1 | B5: Ar Riyadh | C5: 1020 | D5: 261 | E5: 1281
A6: 2 | B6: Makkah Al Mukarramah | C6: 681 | D6: 1684 | E6: 2365
A7: 3 | B7: Al Madinah Al Munawwarah | C7: 199 | D7: 496 | E7: 695
A8: 4 | B8: Al Qaseem | C8: 106 | D8: 32 | E8: 138
A9: 5 | B9: Eastern region | C9: 390 | D9: 159 | E9: 549
A10: 6 | B10: Aseer | C10: 338 | D10: 112 | E10: 450
A11: 7 | B11: Tabuk | C11: 92 | D11: 90 | E11: 182
A12: 8 | B12: Hail | C12: 86 | D12: 17 | E12: 103
A13: 9 | B13: Northern Borders | C13: 28 | D13: 18 | E13: 46
A14: 10 | B14: Jazan | C14: 116 | D14: 88 | E14: 204
A15: 11 | B15: Najran | C15: 71 | D15: 36 | E15: 107
A16: 12 | B16: Al Bahah | C16: 74 | D16: 15 | E16: 89
A17: 13 | B17: Al Jawf | C17: 57 | D17: 12 | E17: 69
A18: Total | C18: 3258 | D18: 3020 | E18: 6278
A19: Source: Ministry of Tourism - (Preliminary data). | E19: Back to Main Menu

Sheet 2.2
A2: Number of available rooms in licensed tourist hospitality facilities by regions and facility type for Q2of 2026
A3: Table 2.2
A4: Administrative regionss | C4: Number of available rooms in serviced apartments and other hospitality facilities | D4: Number of available rooms in hotels | E4: Total available rooms
A5: 1 | B5: Ar Riyadh | C5: 31766 | D5: 29134 | E5: 60900
A6: 2 | B6: Makkah Al Mukarramah | C6: 27970 | D6: 365584 | E6: 393554
A7: 3 | B7: Al Madinah Al Munawwarah | C7: 9060 | D7: 73798 | E7: 82858
A8: 4 | B8: Al Qaseem | C8: 3397 | D8: 2028 | E8: 5425
A9: 5 | B9: Eastern region | C9: 15264 | D9: 17317 | E9: 32581
A10: 6 | B10: Aseer | C10: 9897 | D10: 5134 | E10: 15031
A11: 7 | B11: Tabuk | C11: 3183 | D11: 6823 | E11: 10006
A12: 8 | B12: Hail | C12: 2748 | D12: 1157 | E12: 3905
A13: 9 | B13: Northern Borders | C13: 780 | D13: 1058 | E13: 1838
A14: 10 | B14: Jazan | C14: 3436 | D14: 4425 | E14: 7861
A15: 11 | B15: Najran | C15: 2016 | D15: 1662 | E15: 3678
A16: 12 | B16: Al Bahah | C16: 2298 | D16: 644 | E16: 2942
A17: 13 | B17: Al Jawf | C17: 1689 | D17: 630 | E17: 2319
A18: Total | C18: 113504 | D18: 509394 | E18: 622898
A19: Source: Ministry of Tourism - (Preliminary data). | E19: Back to Main Menu

Sheet 2.3
A2: Occupancy rate in serviced apartments and other hospitality facilities by regions and month for Q2 of 2026
A3: Table 2.3
A4: Administrative regions | C4: April | D4: May | E4: June | F4: Quarterly average
A5: 1 | B5: Ar Riyadh | C5: 0.54456556 | D5: 0.51453856 | E5: 0.52300345 | F5: 0.52718717
A6: 2 | B6: Makkah Al Mukarramah | C6: 0.46315078 | D6: 0.47311549 | E6: 0.38237913 | F6: 0.44213394
A7: 3 | B7: Al Madinah Al Munawwarah | C7: 0.40304781 | D7: 0.39692303 | E7: 0.35571874 | F7: 0.38652705
A8: 4 | B8: Al Qaseem | C8: 0.48402713 | D8: 0.48832865 | E8: 0.4240752 | F8: 0.46721222
A9: 5 | B9: Eastern region | C9: 0.46577212 | D9: 0.50857536 | E9: 0.45155446 | F9: 0.47625441
A10: 6 | B10: Aseer | C10: 0.41652115 | D10: 0.48579021 | E10: 0.38261578 | F10: 0.43021183
A11: 7 | B11: Tabuk | C11: 0.35669901 | D11: 0.35945381 | E11: 0.33038894 | F11: 0.34953258
A12: 8 | B12: Hail | C12: 0.45814449 | D12: 0.44924278 | E12: 0.37371013 | F12: 0.42892671
A13: 9 | B13: Northern Borders | C13: 0.38758573 | D13: 0.3781688 | E13: 0.37810887 | F13: 0.3814586
A14: 10 | B14: Jazan | C14: 0.4033489 | D14: 0.42434466 | E14: 0.39143991 | F14: 0.40711646
A15: 11 | B15: Najran | C15: 0.57062612 | D15: 0.54129868 | E15: 0.51289191 | F15: 0.54240373
A16: 12 | B16: Al Bahah | C16: 0.30475782 | D16: 0.37592312 | E16: 0.31033182 | F16: 0.33145817
A17: 13 | B17: Al Jawf | C17: 0.39430171 | D17: 0.3876742 | E17: 0.37878095 | F17: 0.38721913
A18: Source: Ministry of Tourism - Tourism Monitoring Platform (Preliminary data). | E18: Back to Main Menu

Sheet 2.4
A2: Occupancy rate in hotels by regions and month for Q2 of 2026
A3: Table 2.4
A4: Administrative regions | C4: April | D4: May | E4: June | F4: Quarterly average
A5: 1 | B5: Ar Riyadh | C5: 0.41732631 | D5: 0.41455761 | E5: 0.45135152 | F5: 0.42673099
A6: 2 | B6: Makkah Al Mukarramah | C6: 0.43491622 | D6: 0.64960265 | E6: 0.43053045 | F6: 0.49950259
A7: 3 | B7: Al Madinah Al Munawwarah | C7: 0.59725964 | D7: 0.67139262 | E7: 0.69028217 | F7: 0.65334848
A8: 4 | B8: Al Qaseem | C8: 0.45907733 | D8: 0.46305775 | E8: 0.35039146 | F8: 0.42694929
A9: 5 | B9: Eastern region | C9: 0.48099811 | D9: 0.50677035 | E9: 0.4428046 | F9: 0.47790972
A10: 6 | B10: Aseer | C10: 0.33250345 | D10: 0.45360508 | E10: 0.350907 | F10: 0.37997023
A11: 7 | B11: Tabuk | C11: 0.27309378 | D11: 0.30905926 | E11: 0.27380473 | F11: 0.28612777
A12: 8 | B12: Hail | C12: 0.32018053 | D12: 0.30989649 | E12: 0.23330883 | F12: 0.28912197
A13: 9 | B13: Northern Borders | C13: 0.48549788 | D13: 0.44621496 | E13: 0.47372869 | F13: 0.46822148
A14: 10 | B14: Jazan | C14: 0.35483008 | D14: 0.38817515 | E14: 0.34727976 | F14: 0.36429231
A15: 11 | B15: Najran | C15: 0.41788456 | D15: 0.38865472 | E15: 0.39100069 | F15: 0.39933212
A16: 12 | B16: Al Bahah | C16: 0.30262221 | D16: 0.42537835 | E16: 0.29489776 | F16: 0.34296658
A17: 13 | B17: Al Jawf | C17: 0.34513067 | D17: 0.34540874 | E17: 0.31968564 | F17: 0.33711655
A18: Source: Ministry of Tourism - Tourism Monitoring Platform (Preliminary data). | E18: Back to Main Menu

Sheet 2.5
A2: Occupancy rate in tourism hospitality facilities by major cities and governorates and type of facility for Q2 of 2026
A3: Table 2.5
A4: Major cities and governorates | C4: Serviced apartments and other hospitality facilities | D4: Hotels | E4: Performance of tourism hospitality facilities (serviced apartments and other hospitality facilities, hotels)
A5: 1 | B5: Riyadh city (1) | C5: 0.53556592 | D5: 0.4287649 | E5: 0.48276012
A6: 2 | B6: Makkah Al-Mukarramah city | C6: 0.30194176 | D6: 0.49267254 | E6: 0.49087716
A7: 3 | B7: Jiddah governorate | C7: 0.49181289 | D7: 0.57892722 | E7: 0.54372342
A8: 4 | B8: Taif governorate | C8: 0.37422989 | D8: 0.34355938 | E8: 0.36474026
A9: 5 | B9: Al-Madinah Al-Munawwarah city | C9: 0.38670032 | D9: 0.66297933 | E9: 0.64383715
A10: 6 | B10: Bariduh city and Unayzah governorate | C10: 0.49304646 | D10: 0.46528426 | E10: 0.48232916
A11: 7 | B11: Al-Ahsa governorate | C11: 0.39117644 | D11: 0.39362531 | E11: 0.39182519
A12: 8 | B12: Dammam metropolitan area (2) | C12: 0.51193607 | D12: 0.50545616 | E12: 0.50837085
A13: 9 | B13: Abha city and Khamis Mushayt governorate | C13: 0.44314379 | D13: 0.40590837 | E13: 0.43055835
A14: 10 | B14: Tabuk city | C14: 0.38938103 | D14: 0.26670496 | E14: 0.32387293
A15: 11 | B15: Hail city | C15: 0.43787938 | D15: 0.29206198 | E15: 0.39185526
A16: 12 | B16: Arar city | C16: 0.45191518 | D16: 0.46801304 | E16: 0.46288714
... A21: 17 | B21: Other (3) | C21: 0.40966633 | D21: 0.35506196 | E21: 0.38545732
A22: Source: Ministry of Tourism - Tourism Monitoring Platform (Preliminary data). | E22: Return to Main Menu
A23: (1) Riyadh city data includes Diriyah governorate.
A24: (2) Dammam metropolitan area includes Dammam, Khobar, and Dhahran.
A25: (3) Others include cities and governorates not shown in the table.

Sheet 2.6
A2: Occupancy rate in tourism hospitality facilities by major cities and governorates and month for Q2 of 2026
A3: Table 2.6
A4: Major cities and governorates | C4: April | D4: May | E4: June | F4: General average
A5: 1 | B5: Riyadh city (1) | C5: 0.4862527 | D5: 0.46737422 | E5: 0.49695648 | F5: 0.48276012
A6: 2 | B6: Makkah Al-Mukarramah city | C6: 0.41590345 | D6: 0.66183344 | E6: 0.41858202 | F6: 0.49087716
A7: 3 | B7: Jiddah governorate | C7: 0.56055363 | D7: 0.57078667 | E7: 0.49363232 | F7: 0.54372342
A8: 4 | B8: Taif governorate | C8: 0.38013147 | D8: 0.40619224 | E8: 0.30128324 | F8: 0.36474026
A9: 5 | B9: Al-Madinah Al-Munawwarah city | C9: 0.58849965 | D9: 0.66427109 | E9: 0.67821331 | F9: 0.64383715
A10: 6 | B10: Bariduh city and Unayzah governorate | C10: 0.50541044 | D10: 0.50547861 | E10: 0.42976104 | F10: 0.48232916
A11: 7 | B11: Al-Ahsa governorate | C11: 0.3808646 | D11: 0.43575694 | E11: 0.35487966 | F11: 0.39182519
A12: 8 | B12: Dammam metropolitan area (2) | C12: 0.50755673 | D12: 0.54088457 | E12: 0.47316505 | F12: 0.50837085
A13: 9 | B13: Abha city and Khamis Mushayt governorate | C13: 0.40307664 | D13: 0.49903954 | E13: 0.38418007 | F13: 0.43055835
A14: 10 | B14: Tabuk city | C14: 0.32877022 | D14: 0.33152372 | E14: 0.30947803 | F14: 0.32387293
A15: 11 | B15: Hail city | C15: 0.42474431 | D15: 0.41204535 | E15: 0.33397495 | F15: 0.39185526
A16: 12 | B16: Arar city | C16: 0.53171702 | D16: 0.4318026 | E16: 0.42265658 | F16: 0.46288714
... A21: 17 | B21: Other (3) | C21: 0.38557371 | D21: 0.4042284 | E21: 0.36391608 | F21: 0.38545732
A22: Source: Ministry of Tourism - Tourism Monitoring Platform (Preliminary data). | F22: Return to Main Menu
A23: (1) Riyadh city data includes Diriyah governorate.
A24: (2) Dammam metropolitan area includes Dammam, Khobar, and Dhahran.
A25: (3) Others include cities and governorates not shown in the table.

Sheet 2.7
A2: Occupancy rate in serviced apartments and other hospitality facilities by major cities and governorates and month for Q2 of 2026
A3: Table 2.7
A4: Major cities and governorates | C4: April | D4: May | E4: June | F4: General average
A5: 1 | B5: Riyadh city (1) | C5: 0.55248122 | D5: 0.51929342 | E5: 0.53612699 | F5: 0.53556592
A6: 2 | B6: Makkah Al-Mukarramah city | C6: 0.29114151 | D6: 0.33706187 | E6: 0.27119929 | F6: 0.30194176
A7: 3 | B7: Jiddah governorate | C7: 0.51577545 | D7: 0.51464465 | E7: 0.43788021 | F7: 0.49181289
A8: 4 | B8: Taif governorate | C8: 0.39231741 | D8: 0.42712479 | E8: 0.29412112 | F8: 0.37422989
A9: 5 | B9: Al-Madinah Al-Munawwarah city | C9: 0.4012434 | D9: 0.3980323 | E9: 0.35721842 | F9: 0.38670032
A10: 6 | B10: Bariduh city and Unayzah governorate | C10: 0.51032026 | D10: 0.50789956 | E10: 0.45644605 | F10: 0.49304646
A11: 7 | B11: Al-Ahsa governorate | C11: 0.38302601 | D11: 0.42666982 | E11: 0.36072736 | F11: 0.39117644
A12: 8 | B12: Dammam metropolitan area (2) | C12: 0.49953322 | D12: 0.55084359 | E12: 0.48174514 | F12: 0.51193607
A13: 9 | B13: Abha city and Khamis Mushayt governorate | C13: 0.42969889 | D13: 0.50454265 | E13: 0.38787925 | F13: 0.44314379
A14: 10 | B14: Tabuk city | C14: 0.39994227 | D14: 0.40014727 | E14: 0.36547106 | F14: 0.38938103
A15: 11 | B15: Hail city | C15: 0.47240077 | D15: 0.45712062 | E15: 0.37926008 | F15: 0.43787938
A16: 12 | B16: Arar city | C16: 0.54585893 | D16: 0.42107223 | E16: 0.39054562 | F16: 0.45191518
... A21: 17 | B21: Other (3) | C21: 0.41439487 | D21: 0.42426076 | E21: 0.38755849 | F21: 0.40966633
A22: Source: Ministry of Tourism - Tourism Monitoring Platform (Preliminary data). | F22: Return to Main Menu
A23: (1) Riyadh city data includes Diriyah governorate.
A24: (2) Dammam metropolitan area includes Dammam, Khobar, and Dhahran.
A25: (3) Others include cities and governorates not shown in the table.

Sheet 2.8
A2: Hotel occupancy rate by major cities and governorates and month for Q2 of 2026
A3: Table 2.8
A4: Major cities and governorates | C4: April | D4: May | E4: June | F4: General average
A5: 1 | B5: Riyadh city (1) | C5: 0.41820053 | D5: 0.41530892 | E5: 0.45619831 | F5: 0.4287649
A6: 2 | B6: Makkah Al-Mukarramah city | C6: 0.41694563 | D6: 0.66559143 | E6: 0.41989637 | F6: 0.49267254
A7: 3 | B7: Jiddah governorate | C7: 0.59100161 | D7: 0.60916132 | E7: 0.53098803 | F7: 0.57892722
A8: 4 | B8: Taif governorate | C8: 0.35291776 | D8: 0.35865469 | E8: 0.31695294 | F8: 0.34355938
A9: 5 | B9: Al-Madinah Al-Munawwarah city | C9: 0.60491478 | D9: 0.68160771 | E9: 0.70112529 | F9: 0.66297933
A10: 6 | B10: Bariduh city and Unayzah governorate | C10: 0.49758486 | D10: 0.50162033 | E10: 0.38752469 | F10: 0.46528426
A11: 7 | B11: Al-Ahsa governorate | C11: 0.37432138 | D11: 0.4600362 | E11: 0.3394705 | F11: 0.39362531
A12: 8 | B12: Dammam metropolitan area (2) | C12: 0.51460653 | D12: 0.5328607 | E12: 0.4665617 | F12: 0.50545616
A13: 9 | B13: Abha city and Khamis Mushayt governorate | C13: 0.35001646 | D13: 0.4879276 | E13: 0.37730216 | F13: 0.40590837
A14: 10 | B14: Tabuk city | C14: 0.26888045 | D14: 0.27098111 | E14: 0.25918147 | F14: 0.26670496
A15: 11 | B15: Hail city | C15: 0.32179569 | D15: 0.31372805 | E15: 0.23604015 | F15: 0.29206198
A16: 12 | B16: Arar city | C16: 0.52557498 | D16: 0.43720146 | E16: 0.43757053 | F16: 0.46801304
... A21: 17 | B21: Other (3) | C21: 0.34795495 | D21: 0.37947791 | E21: 0.33495364 | F21: 0.35506196
A22: Source: Ministry of Tourism - Tourism Monitoring Platform (Preliminary data). | F22: Return to Main Menu
A23: (1) Riyadh city data includes Diriyah governorate.
A24: (2) Dammam metropolitan area includes Dammam, Khobar, and Dhahran.
A25: (3) Others include cities and governorates not shown in the table.

Sheet 2.9
A2: Average daily rate in serviced apartments and other hospitality facilities by regions and month for Q2 of 2026
A3: Table 2.9
A4: Administrative regions | C4: April | D4: May | E4: June | F4: Quarterly average
A5: 1 | B5: Ar Riyadh | C5: 234.81771 | D5: 227.22427 | E5: 227.42704 | F5: 229.81412
A6: 2 | B6: Makkah Al Mukarramah | C6: 175.74081 | D6: 214.54754 | E6: 199.20665 | F6: 195.6294
A7: 3 | B7: Al Madinah Al Munawwarah | C7: 228.56166 | D7: 242.21206 | E7: 192.48478 | F7: 221.36357
A8: 4 | B8: Al Qaseem | C8: 149.17362 | D8: 165.98464 | E8: 144.82834 | F8: 153.61518
A9: 5 | B9: Eastern region | C9: 187.25304 | D9: 212.40934 | E9: 187.10236 | F9: 195.87082
A10: 6 | B10: Aseer | C10: 120.19485 | D10: 149.3648 | E10: 150.222 | F10: 140.99638
A11: 7 | B11: Tabuk | C11: 150.22686 | D11: 155.19816 | E11: 148.07123 | F11: 151.17686
A12: 8 | B12: Hail | C12: 189.50317 | D12: 178.77084 | E12: 159.0188 | F12: 176.06869
A13: 9 | B13: Northern Borders | C13: 126.92535 | D13: 138.04933 | E13: 134.9394 | F13: 133.14956
A14: 10 | B14: Jazan | C14: 223.36013 | D14: 215.08416 | E14: 204.05416 | F14: 214.33065
A15: 11 | B15: Najran | C15: 93.473169 | D15: 96.784103 | E15: 96.702282 | F15: 95.655968
A16: 12 | B16: Al Bahah | C16: 122.04525 | D16: 159.21052 | E16: 153.21448 | F16: 147.19046
A17: 13 | B17: Al Jawf | C17: 131.22331 | D17: 134.30824 | E17: 131.6161 | F17: 132.36295
A18: Source: Ministry of Tourism - Tourism Monitoring Platform (Preliminary data). | E18: Back to Main Menu
A19: Note: The average daily rate does not include Value Added Tax (VAT) or municipal service fees.

Sheet 2.10
A2: Average daily rate in hotels by regions and month for Q2 of 2026
A3: Table 2.10
A4: Administrative regions | C4: April | D4: May | E4: June | F4: Quarterly average
A5: 1 | B5: Ar Riyadh | C5: 529.05116 | D5: 565.56921 | E5: 528.53598 | F5: 540.91171
A6: 2 | B6: Makkah Al Mukarramah | C6: 378.81145 | D6: 962.61112 | E6: 290.86049 | F6: 585.311
A7: 3 | B7: Al Madinah Al Munawwarah | C7: 423.85062 | D7: 825.53304 | E7: 509.0546 | F7: 589.45944
A8: 4 | B8: Al Qaseem | C8: 393.75561 | D8: 415.27461 | E8: 351.3168 | F8: 389.62507
A9: 5 | B9: Eastern region | C9: 418.17637 | D9: 451.98826 | E9: 425.64208 | F9: 433.0886
A10: 6 | B10: Aseer | C10: 257.39045 | D10: 310.39502 | E10: 314.41523 | F10: 297.05994
A11: 7 | B11: Tabuk | C11: 574.12175 | D11: 976.55242 | E11: 684.18838 | F11: 738.42236
A12: 8 | B12: Hail | C12: 327.05227 | D12: 351.61284 | E12: 311.25811 | F12: 331.05371
A13: 9 | B13: Northern Borders | C13: 209.5287 | D13: 201.98612 | E13: 209.08315 | F13: 207.04853
A14: 10 | B14: Jazan | C14: 267.77542 | D14: 348.34055 | E14: 245.97126 | F14: 290.26353
A15: 11 | B15: Najran | C15: 228.22959 | D15: 215.24906 | E15: 158.60433 | F15: 199.78716
A16: 12 | B16: Al Bahah | C16: 257.70392 | D16: 371.20204 | E16: 357.3143 | F16: 331.1086
A17: 13 | B17: Al Jawf | C17: 257.81462 | D17: 248.37094 | E17: 232.96361 | F17: 245.92158
A18: Source: Ministry of Tourism - Tourism Monitoring Platform (Preliminary data). | E18: Back to Main Menu
A19: Note: The average daily rate does not include Value Added Tax (VAT) or municipal service fees.

Sheet 2.11
A2: Average daily rate in tourist accommodation facilities by major cities and governorates and facility type for Q2 of 2026
A3: Table 2.11
A4: Major cities and governorates | C4: Serviced apartments and other accommodation facilities | D4: Hotels | E4: Performance of tourist accommodation facilities (serviced apartments and other accommodation facilities, hotels)
A5: 1 | B5: Riyadh city (1) | C5: 233.85607 | D5: 534.58735 | E5: 361.5419
A6: 2 | B6: Makkah Al-Mukarramah city | C6: 406.13274 | D6: 598.91627 | E6: 597.5564
A7: 3 | B7: Jiddah governorate | C7: 193.48689 | D7: 499.28383 | E7: 365.13321
A8: 4 | B8: Taif governorate | C8: 178.86852 | D8: 409.96902 | E8: 244.99543
A9: 5 | B9: Al-Madinah Al-Munawwarah city | C9: 245.99905 | D9: 594.23072 | E9: 575.47297
A10: 6 | B10: Bariduh city and Unayzah governorate | C10: 153.03945 | D10: 387.26687 | E10: 227.01104
A11: 7 | B11: Al-Ahsa governorate | C11: 178.49508 | D11: 518.15836 | E11: 253.46234
A12: 8 | B12: Dammam metropolitan area (2) | C12: 214.66487 | D12: 442.97374 | E12: 341.8262
A13: 9 | B13: Abha city and Khamis Mushayt governorate | C13: 141.42132 | D13: 319.27667 | E13: 199.67328
A14: 10 | B14: Tabuk city | C14: 133.22417 | D14: 247.55356 | E14: 183.6943
A15: 11 | B15: Hail city | C15: 179.57607 | D15: 333.65612 | E15: 216.28161
A16: 12 | B16: Arar city | C16: 169.01187 | D16: 237.56545 | E16: 209.16488
... A21: 17 | B21: Other (3) | C21: 169.72726 | D21: 540.57624 | E21: 315.61299
A22: Source: Ministry of Tourism - Tourism Monitoring Platform (Preliminary data). | E22: Return to Main Menu
A23: Note: The average daily rate does not include Value Added Tax (VAT) or municipal service fees.
A24: (1) Riyadh city data includes Diriyah governorate.
A25: (2) Dammam metropolitan area includes Dammam, Khobar, and Dhahran.
A26: (3) Others include cities and governorates not shown in the table.

Sheet 2.12
A2: Average daily rate in tourist accommodation facilities by major cities and governorates and month for Q2 of 2026
A3: Table 2.12
A4: Major cities and governorates | C4: April | D4: May | E4: June | F4: General average
A5: 1 | B5: Riyadh city (1) | C5: 353.10803 | D5: 373.01387 | E5: 358.7228 | F5: 361.5419
A6: 2 | B6: Makkah Al-Mukarramah city | C6: 354.89928 | D6: 1022.99 | E6: 252.44028 | F6: 597.5564
A7: 3 | B7: Jiddah governorate | C7: 339.64437 | D7: 391.84095 | E7: 363.67942 | F7: 365.13321
A8: 4 | B8: Taif governorate | C8: 237.02056 | D8: 245.59836 | E8: 255.6989 | F8: 244.99543
A9: 5 | B9: Al-Madinah Al-Munawwarah city | C9: 415.84152 | D9: 804.76989 | E9: 496.26059 | F9: 575.47297
A10: 6 | B10: Bariduh city and Unayzah governorate | C10: 224.72241 | D10: 245.89601 | E10: 207.72008 | F10: 227.01104
A11: 7 | B11: Al-Ahsa governorate | C11: 233.22733 | D11: 269.13935 | E11: 255.09313 | F11: 253.46234
A12: 8 | B12: Dammam metropolitan area (2) | C12: 325.27226 | D12: 365.28924 | E12: 331.83798 | F12: 341.8262
A13: 9 | B13: Abha city and Khamis Mushayt governorate | C13: 167.29411 | D13: 212.02467 | E13: 213.68091 | F13: 199.67328
A14: 10 | B14: Tabuk city | C14: 195.19551 | D14: 180.59271 | E14: 175.82838 | F14: 183.6943
A15: 11 | B15: Hail city | C15: 226.60213 | D15: 224.52331 | E15: 196.21927 | F15: 216.28161
A16: 12 | B16: Arar city | C16: 222.10907 | D16: 203.21847 | E16: 200.35512 | F16: 209.16488
... A21: 17 | B21: Other (3) | C21: 284.13481 | D21: 352.21859 | E21: 308.97188 | F21: 315.61299
A22: Source: Ministry of Tourism - Tourism Monitoring Platform (Preliminary data). | F22: Return to Main Menu
A23: Note: The average daily rate does not include Value Added Tax (VAT) or municipal service fees.
A24: (1) Riyadh city data includes Diriyah governorate.
A25: (2) Dammam metropolitan area includes Dammam, Khobar, and Dhahran.
A26: (3) Others include cities and governorates not shown in the table.

Sheet 2.13
A2: Average daily rate in serviced apartments and other hospitality facilities by major cities and governorates and month for Q2 of 2026
A3: Table 2.13
A4: Major cities and governorates | C4: April | D4: May | E4: June | F4: General average
A5: 1 | B5: Riyadh city (1) | C5: 239.32685 | D5: 231.82552 | E5: 230.59111 | F5: 233.85607
A6: 2 | B6: Makkah Al-Mukarramah city | C6: 134.18467 | D6: 518.24933 | E6: 340.72398 | F6: 406.13274
A7: 3 | B7: Jiddah governorate | C7: 185.13934 | D7: 196.17091 | E7: 200.76851 | F7: 193.48689
A8: 4 | B8: Taif governorate | C8: 161.66641 | D8: 193.22328 | E8: 187.83533 | F8: 178.86852
A9: 5 | B9: Al-Madinah Al-Munawwarah city | C9: 257.72437 | D9: 270.17976 | E9: 209.9317 | F9: 245.99905
A10: 6 | B10: Bariduh city and Unayzah governorate | C10: 148.83916 | D10: 163.55907 | E10: 146.19201 | F10: 153.03945
A11: 7 | B11: Al-Ahsa governorate | C11: 165.77145 | D11: 177.37631 | E11: 192.66673 | F11: 178.49508
A12: 8 | B12: Dammam metropolitan area (2) | C12: 204.12473 | D12: 237.43395 | E12: 200.99021 | F12: 214.66487
A13: 9 | B13: Abha city and Khamis Mushayt governorate | C13: 118.10706 | D13: 149.94172 | E13: 152.54543 | F13: 141.42132
A14: 10 | B14: Tabuk city | C14: 133.93864 | D14: 135.54258 | E14: 130.32632 | F14: 133.22417
A15: 11 | B15: Hail city | C15: 193.81639 | D15: 182.05504 | E15: 161.99439 | F15: 179.57607
A16: 12 | B16: Arar city | C16: 165.88271 | D16: 172.72169 | E16: 168.52244 | F16: 169.01187
... A21: 17 | B21: Other (3) | C21: 171.03576 | D21: 173.74546 | E21: 164.54296 | F21: 169.72726
A22: Source: Ministry of Tourism - Tourism Monitoring Platform (Preliminary data). | F22: Return to Main Menu
A23: Note: The average daily rate does not include Value Added Tax (VAT) or municipal service fees.
A24: (1) Riyadh city data includes Diriyah governorate.
A25: (2) Dammam metropolitan area includes Dammam, Khobar, and Dhahran.
A26: (3) Others include cities and governorates not shown in the table.

Sheet 2.14
A2: Average daily rate in hotels by major cities and governorates and month for Q2 of 2026
A3: Table 2.14
A4: Major cities and governorates | C4: April | D4: May | E4: June | F4: General average
A5: 1 | B5: Riyadh city (1) | C5: 521.04745 | D5: 557.12268 | E5: 525.5608 | F5: 534.58735
A6: 2 | B6: Makkah Al-Mukarramah city | C6: 355.83522 | D6: 1028.0217 | E6: 251.91003 | F6: 598.91627
A7: 3 | B7: Jiddah governorate | C7: 479.27682 | D7: 533.10098 | E7: 482.05625 | F7: 499.28383
A8: 4 | B8: Taif governorate | C8: 437.87089 | D8: 370.38116 | E8: 418.54904 | F8: 409.96902
A9: 5 | B9: Al-Madinah Al-Munawwarah city | C9: 424.75192 | D9: 835.66391 | E9: 512.47257 | F9: 594.23072
A10: 6 | B10: Bariduh city and Unayzah governorate | C10: 387.06385 | D10: 411.76179 | E10: 355.39183 | F10: 387.26687
A11: 7 | B11: Al-Ahsa governorate | C11: 513.21693 | D11: 545.92201 | E11: 484.63504 | F11: 518.15836
A12: 8 | B12: Dammam metropolitan area (2) | C12: 428.02408 | D12: 461.8384 | E12: 435.59077 | F12: 442.97374
A13: 9 | B13: Abha city and Khamis Mushayt governorate | C13: 275.31995 | D13: 332.49782 | E13: 340.23084 | F13: 319.27667
A14: 10 | B14: Tabuk city | C14: 262.53326 | D14: 243.2847 | E14: 235.91774 | F14: 247.55356
A15: 11 | B15: Hail city | C15: 329.43852 | D15: 354.2734 | E15: 313.89228 | F15: 333.65612
A16: 12 | B16: Arar city | C16: 259.21745 | D16: 228.22996 | E16: 221.44721 | F16: 237.56545
... A21: 17 | B21: Other (3) | C21: 477.72223 | D21: 625.61939 | E21: 513.56982 | F21: 540.57624
A22: Source: Ministry of Tourism - Tourism Monitoring Platform (Preliminary data). | F22: Return to Main Menu
A23: Note: The average daily rate does not include Value Added Tax (VAT) or municipal service fees.
A24: (1) Riyadh city data includes Diriyah governorate.
A25: (2) Dammam metropolitan area includes Dammam, Khobar, and Dhahran.
A26: (3) Others include cities and governorates not shown in the table.

Sheet 2.15
A2: Average length of stay in serviced apartments and other hospitality facilities by regions and month in Q2 of 2026
A3: Table 2.15 | F3: Night
A4: Administrative regions | C4: April | D4: May | E4: June | F4: Quarterly average
A5: 1 | B5: Ar Riyadh | C5: 2.0915756 | D5: 2.0039137 | E5: 2.1784938 | F5: 2.0918932
A6: 2 | B6: Makkah Al Mukarramah | C6: 1.9320706 | D6: 1.8713169 | E6: 1.9397273 | F6: 1.9131732
A7: 3 | B7: Al Madinah Al Munawwarah | C7: 2.5245029 | D7: 2.4602335 | E7: 2.8758043 | F7: 2.6133781
A8: 4 | B8: Al Qaseem | C8: 1.7073328 | D8: 1.6247326 | E8: 1.7309942 | F8: 1.6848615
A9: 5 | B9: Eastern region | C9: 2.0131118 | D9: 1.9125885 | E9: 2.1224996 | F9: 2.0118141
A10: 6 | B10: Aseer | C10: 1.8647812 | D10: 1.7357423 | E10: 1.7638326 | F10: 1.7830128
A11: 7 | B11: Tabuk | C11: 1.8376122 | D11: 1.8488415 | E11: 1.9665155 | F11: 1.8860008
A12: 8 | B12: Hail | C12: 1.8045078 | D12: 1.6725041 | E12: 1.7583399 | F12: 1.742493
A13: 9 | B13: Northern Borders | C13: 2 | D13: 1.7487856 | E13: 1.8605684 | F13: 1.8679914
A14: 10 | B14: Jazan | C14: 1.7604231 | D14: 1.6457549 | E14: 1.785695 | F14: 1.7272559
A15: 11 | B15: Najran | C15: 2.3646322 | D15: 2.1743295 | E15: 1.994636 | F15: 2.1689579
A16: 12 | B16: Al Bahah | C16: 1.9023204 | D16: 1.7861635 | E16: 1.7506862 | F16: 1.8047874
A17: 13 | B17: Al Jawf | C17: 1.8138389 | D17: 1.759756 | E17: 1.8189466 | F17: 1.7977312
A18: Source: Ministry of Tourism - Tourism Monitoring Platform (Preliminary data). | E18: Back to Main Menu

Sheet 2.16
A2: Average length of stay in hotels by regions and month in Q2 of 2026
A3: Table 2.16 | F3: Night
A4: Administrative regions | C4: April | D4: May | E4: June | F4: Quarterly average
A5: 1 | B5: Ar Riyadh | C5: 2.0708566 | D5: 2.0176415 | E5: 2.2952698 | F5: 2.1263248
A6: 2 | B6: Makkah Al Mukarramah | C6: 4.5181201 | D6: 11.897415 | E6: 7.4909804 | F6: 7.2931201
A7: 3 | B7: Al Madinah Al Munawwarah | C7: 4.2989972 | D7: 3.9891471 | E7: 4.6409875 | F7: 4.3014603
A8: 4 | B8: Al Qaseem | C8: 1.6596212 | D8: 1.6872514 | E8: 1.651134 | F8: 1.6672339
A9: 5 | B9: Eastern region | C9: 2.0431232 | D9: 2.03529 | E9: 2.2384628 | F9: 2.1007244
A10: 6 | B10: Aseer | C10: 1.7281436 | D10: 1.8958894 | E10: 1.8522177 | F10: 1.8333737
A11: 7 | B11: Tabuk | C11: 2.1350381 | D11: 2.0407806 | E11: 3.3357189 | F11: 2.4748565
A12: 8 | B12: Hail | C12: 1.6615679 | D12: 1.649357 | E12: 1.5222966 | F12: 1.6149052
A13: 9 | B13: Northern Borders | C13: 3.6291943 | D13: 1.6735103 | E13: 1.6734036 | F13: 2.287801
A14: 10 | B14: Jazan | C14: 1.6874129 | D14: 1.7685588 | E14: 1.7810728 | F14: 1.7476143
A15: 11 | B15: Najran | C15: 1.6657077 | D15: 1.6262241 | E15: 1.5393437 | F15: 1.6083
A16: 12 | B16: Al Bahah | C16: 2.0217799 | D16: 1.6402008 | E16: 2.0055693 | F16: 1.8539599
A17: 13 | B17: Al Jawf | C17: 1.7696335 | D17: 1.7927357 | E17: 1.8282916 | F17: 1.7980192
A18: Source: Ministry of Tourism - Tourism Monitoring Platform (Preliminary data). | E18: Back to Main Menu

Sheet 2.17
A2: Average length of stay in tourist accommodation facilities by major cities and governorates and type of facility for Q2 of 2026
A3: Table 2.17 | E3: Night
A4: Major cities and governorates | C4: Serviced apartments and other accommodation facilities | D4: Hotels | E4: Performance of tourist accommodation facilities (serviced apartments and other accommodation facilities, hotels)
A5: 1 | B5: Riyadh city (1) | C5: 2.1092342 | D5: 2.1484897 | E5: 2.1284076
A6: 2 | B6: Makkah Al-Mukarramah city | C6: 3.8310145 | D6: 8.9159226 | E6: 8.8853293
A7: 3 | B7: Jiddah governorate | C7: 1.9107036 | D7: 2.4179374 | E7: 2.214347
A8: 4 | B8: Taif governorate | C8: 1.7231974 | D8: 1.9532396 | E8: 1.8055394
A9: 5 | B9: Al-Madinah Al-Munawwarah city | C9: 2.7720017 | D9: 4.3485482 | E9: 4.2838591
A10: 6 | B10: Bariduh city and Unayzah governorate | C10: 1.6733941 | D10: 1.7043061 | E10: 1.6854392
A11: 7 | B11: Al-Ahsa governorate | C11: 1.7680143 | D11: 1.5778443 | E11: 1.706968
A12: 8 | B12: Dammam metropolitan area (2) | C12: 2.0977171 | D12: 2.0883674 | E12: 2.0916496
A13: 9 | B13: Abha city and Khamis Mushayt governorate | C13: 1.8122158 | D13: 1.8955998 | E13: 1.8436832
A14: 10 | B14: Tabuk city | C14: 1.8894343 | D14: 1.9845087 | E14: 1.936443
A15: 11 | B15: Hail city | C15: 1.7188626 | D15: 1.5996786 | E15: 1.6811084
A16: 12 | B16: Arar city | C16: 1.5907458 | D16: 1.5164621 | E16: 1.5426022
... A21: 17 | B21: Other (3) | C21: 1.8899729 | D21: 2.0947635 | E21: 1.9823747
A22: Source: Ministry of Tourism - Tourism Monitoring Platform (Preliminary data). | E22: Return to Main Menu
A23: (1) Riyadh city data includes Diriyah governorate.
A24: (2) Dammam metropolitan area includes Dammam, Khobar, and Dhahran.
A25: (3) Others include cities and governorates not shown in the table.

Sheet 2.18
A2: Average length of stay in tourist accommodation facilities by major cities and governorates and month for Q2 of 2026
A3: Table 2.18 | F3: Night
A4: Major cities and governorates | C4: April | D4: May | E4: June | F4: General average
A5: 1 | B5: Riyadh city (1) | C5: 2.1026533 | D5: 2.0297803 | E5: 2.252886 | F5: 2.1284076
A6: 2 | B6: Makkah Al-Mukarramah city | C6: 5.0943203 | D6: 16.720542 | E6: 9.052831 | F6: 8.8853293
A7: 3 | B7: Jiddah governorate | C7: 1.9766217 | D7: 2.2028891 | E7: 2.5198766 | F7: 2.214347
A8: 4 | B8: Taif governorate | C8: 2.0145353 | D8: 1.743407 | E8: 1.6252948 | F8: 1.8055394
A9: 5 | B9: Al-Madinah Al-Munawwarah city | C9: 4.2807103 | D9: 3.9735032 | E9: 4.6213957 | F9: 4.2838591
A10: 6 | B10: Bariduh city and Unayzah governorate | C10: 1.6985787 | D10: 1.6674617 | E10: 1.6915138 | F10: 1.6854392
A11: 7 | B11: Al-Ahsa governorate | C11: 1.6875692 | D11: 1.6547101 | E11: 1.7940136 | F11: 1.706968
A12: 8 | B12: Dammam metropolitan area (2) | C12: 2.0710315 | D12: 2.0373452 | E12: 2.1791167 | F12: 2.0916496
A13: 9 | B13: Abha city and Khamis Mushayt governorate | C13: 1.8523451 | D13: 1.8459525 | E13: 1.8332637 | F13: 1.8436832
A14: 10 | B14: Tabuk city | C14: 1.9810391 | D14: 1.8657271 | E14: 1.9648746 | F14: 1.936443
A15: 11 | B15: Hail city | C15: 1.7415543 | D15: 1.640949 | E15: 1.6634577 | F15: 1.6811084
A16: 12 | B16: Arar city | C16: 1.6774839 | D16: 1.4753016 | E16: 1.4743308 | F16: 1.5426022
... A21: 17 | B21: Other (3) | C21: 1.9311146 | D21: 1.8387843 | E21: 2.1925996 | F21: 1.9823747
A22: Source: Ministry of Tourism - Tourism Monitoring Platform (Preliminary data). | F22: Return to Main Menu
A23: (1) Riyadh city data includes Diriyah governorate.
A24: (2) Dammam metropolitan area includes Dammam, Khobar, and Dhahran.
A25: (3) Others include cities and governorates not shown in the table.

Sheet 2.19
A2: Average length of stay in serviced apartments and other hospitality facilities by major cities and governorates and month for Q2 of 2026
A3: Table 2.19 | F3: Night
A4: Major cities and governorates | C4: April | D4: May | E4: June | F4: General average
A5: 1 | B5: Riyadh city (1) | C5: 2.1132979 | D5: 2.0220361 | E5: 2.1896618 | F5: 2.1092342
A6: 2 | B6: Makkah Al-Mukarramah city | C6: 1.6839255 | D6: 6.514445 | E6: 3.5351375 | F6: 3.8310145
A7: 3 | B7: Jiddah governorate | C7: 1.9269227 | D7: 1.8147541 | E7: 2.0066152 | F7: 1.9107036
A8: 4 | B8: Taif governorate | C8: 1.9568834 | D8: 1.5813689 | E8: 1.605672 | F8: 1.7231974
A9: 5 | B9: Al-Madinah Al-Munawwarah city | C9: 2.7217347 | D9: 2.5916218 | E9: 3.015986 | F9: 2.7720017
A10: 6 | B10: Bariduh city and Unayzah governorate | C10: 1.7044754 | D10: 1.6150797 | E10: 1.7062238 | F10: 1.6733941
A11: 7 | B11: Al-Ahsa governorate | C11: 1.7409375 | D11: 1.6988537 | E11: 1.8816693 | F11: 1.7680143
A12: 8 | B12: Dammam metropolitan area (2) | C12: 2.0935633 | D12: 1.9775481 | E12: 2.2436059 | F12: 2.0977171
A13: 9 | B13: Abha city and Khamis Mushayt governorate | C13: 1.9000905 | D13: 1.7691263 | E13: 1.7834524 | F13: 1.8122158
A14: 10 | B14: Tabuk city | C14: 1.8240732 | D14: 1.881086 | E14: 1.9550808 | F14: 1.8894343
A15: 11 | B15: Hail city | C15: 1.7866576 | D15: 1.6431289 | E15: 1.7354707 | F15: 1.7188626
A16: 12 | B16: Arar city | C16: 1.6607143 | D16: 1.5595602 | E16: 1.552356 | F16: 1.5907458
... A21: 17 | B21: Other (3) | C21: 1.8972333 | D21: 1.8177105 | E21: 1.9586118 | F21: 1.8899729
A22: Source: Ministry of Tourism - Tourism Monitoring Platform (Preliminary data). | F22: Return to Main Menu
A23: (1) Riyadh city data includes Diriyah governorate.
A24: (2) Dammam metropolitan area includes Dammam, Khobar, and Dhahran.
A25: (3) Others include cities and governorates not shown in the table.

Sheet 2.20
A2: Average length of stay in hotels by major cities and governorates and month for Q2 of 2026
A3: Table 2.20 | F3: Night
A4: Major cities and governorates | C4: April | D4: May | E4: June | F4: General average
A5: 1 | B5: Riyadh city (1) | C5: 2.0910102 | D5: 2.0373384 | E5: 2.3211915 | F5: 2.1484897
A6: 2 | B6: Makkah Al-Mukarramah city | C6: 5.1124887 | D6: 16.819651 | E6: 9.0771311 | F6: 8.9159226
A7: 3 | B7: Jiddah governorate | C7: 2.0112778 | D7: 2.456271 | E7: 2.8586308 | F7: 2.4179374
A8: 4 | B8: Taif governorate | C8: 2.1171041 | D8: 2.0412837 | E8: 1.6598652 | F8: 1.9532396
A9: 5 | B9: Al-Madinah Al-Munawwarah city | C9: 4.3508812 | D9: 4.0313979 | E9: 4.6884187 | F9: 4.3485482
A10: 6 | B10: Bariduh city and Unayzah governorate | C10: 1.6897156 | D10: 1.7486675 | E10: 1.6670073 | F10: 1.7043061
A11: 7 | B11: Al-Ahsa governorate | C11: 1.5532995 | D11: 1.5736024 | E11: 1.6065343 | F11: 1.5778443
A12: 8 | B12: Dammam metropolitan area (2) | C12: 2.0580185 | D12: 2.0676752 | E12: 2.1436986 | F12: 2.0883674
A13: 9 | B13: Abha city and Khamis Mushayt governorate | C13: 1.7717494 | D13: 1.968551 | E13: 1.9170337 | F13: 1.8955998
A14: 10 | B14: Tabuk city | C14: 2.1235521 | D14: 1.8496546 | E14: 1.9758586 | F14: 1.9845087
A15: 11 | B15: Hail city | C15: 1.6485035 | D15: 1.6362088 | E15: 1.5020753 | F15: 1.5996786
A16: 12 | B16: Arar city | C16: 1.6864551 | D16: 1.425254 | E16: 1.4349835 | F16: 1.5164621
... A21: 17 | B21: Other (3) | C21: 1.9741757 | D21: 1.8624224 | E21: 2.4909647 | F21: 2.0947635
A22: Source: Ministry of Tourism - Tourism Monitoring Platform (Preliminary data). | F22: Return to Main Menu
A23: (1) Riyadh city data includes Diriyah governorate.
A24: (2) Dammam metropolitan area includes Dammam, Khobar, and Dhahran.
A25: (3) Others include cities and governorates not shown in the table.

Sheet 2.21
A2: Change over Q2 of 2025 in occupancy rate of serviced apartments and other hospitality facilities by region
A3: Table 2.21
A4: Administrative regions | C4: Q2 of 2025 | D4: Q2 of 2026 | E4: Change rate
A5: 1 | B5: Ar Riyadh | C5: 0.57702354 | D5: 0.52718717 | E5: -0.049836374
A6: 2 | B6: Makkah Al Mukarramah | C6: 0.49247633 | D6: 0.44213394 | E6: -0.050342389
A7: 3 | B7: Al Madinah Al Munawwarah | C7: 0.40621511 | D7: 0.38652705 | E7: -0.01968806
A8: 4 | B8: Al Qaseem | C8: 0.46485334 | D8: 0.46721222 | E8: 0.0023588792
A9: 5 | B9: Eastern region | C9: 0.51317758 | D9: 0.47625441 | E9: -0.036923169
A10: 6 | B10: Aseer | C10: 0.42756046 | D10: 0.43021183 | E10: 0.0026513708
A11: 7 | B11: Tabuk | C11: 0.45847162 | D11: 0.34953258 | E11: -0.10893904
A12: 8 | B12: Hail | C12: 0.46304409 | D12: 0.42892671 | E12: -0.034117386
A13: 9 | B13: Northern Borders | C13: 0.40107802 | D13: 0.3814586 | E13: -0.01961942
A14: 10 | B14: Jazan | C14: 0.41644059 | D14: 0.40711646 | E14: -0.009324129
A15: 11 | B15: Najran | C15: 0.55526193 | D15: 0.54240373 | E15: -0.012858204
A16: 12 | B16: Al Bahah | C16: 0.35518931 | D16: 0.33145817 | E16: -0.023731146
A17: 13 | B17: Al Jawf | C17: 0.39116881 | D17: 0.38721913 | E17: -0.0039496731
A18: Source: Ministry of Tourism - Tourism Monitoring Platform (Preliminary data). | E18: Back to Main Menu

Sheet 2.22
A2: Change over Q2 of 2025 in occupancy rate of hotels by region
A3: Table 2.22
A4: Administrative regions | C4: Q2 of 2025 | D4: Q2 of 2026 | E4: Change rate
A5: 1 | B5: Ar Riyadh | C5: 0.52085888 | D5: 0.42673099 | E5: -0.09412789
A6: 2 | B6: Makkah Al Mukarramah | C6: 0.50779314 | D6: 0.49950259 | E6: -0.0082905498
A7: 3 | B7: Al Madinah Al Munawwarah | C7: 0.66832269 | D7: 0.65334848 | E7: -0.014974212
A8: 4 | B8: Al Qaseem | C8: 0.41974587 | D8: 0.42694929 | E8: 0.007203425
A9: 5 | B9: Eastern region | C9: 0.54762715 | D9: 0.47790972 | E9: -0.069717438
A10: 6 | B10: Aseer | C10: 0.39332646 | D10: 0.37997023 | E10: -0.013356233
A11: 7 | B11: Tabuk | C11: 0.39740168 | D11: 0.28612777 | E11: -0.11127391
A12: 8 | B12: Hail | C12: 0.33932063 | D12: 0.28912197 | E12: -0.050198657
A13: 9 | B13: Northern Borders | C13: 0.45600753 | D13: 0.46822148 | E13: 0.012213945
A14: 10 | B14: Jazan | C14: 0.35018043 | D14: 0.36429231 | E14: 0.014111884
A15: 11 | B15: Najran | C15: 0.42377424 | D15: 0.39933212 | E15: -0.024442126
A16: 12 | B16: Al Bahah | C16: 0.29119618 | D16: 0.34296658 | E16: 0.0517704
A17: 13 | B17: Al Jawf | C17: 0.36406995 | D17: 0.33711655 | E17: -0.026953406
A18: Source: Ministry of Tourism - Tourism Monitoring Platform (Preliminary data). | D18: Back to Main Menu

Sheet 2.23
A2: Change over Q2 of 2025 in average daily rate of serviced apartments and other hospitality facilities by region
A3: Table 2.23
A4: Administrative regions | C4: Q2 of 2025 | D4: Q2 of 2026 | E4: Change rate
A5: 1 | B5: Ar Riyadh | C5: 239.44073 | D5: 229.81412 | E5: -0.040204535
A6: 2 | B6: Makkah Al Mukarramah | C6: 190.4824 | D6: 195.6294 | E6: 0.027020904
A7: 3 | B7: Al Madinah Al Munawwarah | C7: 233.37841 | D7: 221.36357 | E7: -0.051482228
A8: 4 | B8: Al Qaseem | C8: 152.38867 | D8: 153.61518 | E8: 0.008048559
A9: 5 | B9: Eastern region | C9: 212.66268 | D9: 195.87082 | E9: -0.078960106
A10: 6 | B10: Aseer | C10: 147.80355 | D10: 140.99638 | E10: -0.046055534
A11: 7 | B11: Tabuk | C11: 146.9069 | D11: 151.17686 | E11: 0.029065762
A12: 8 | B12: Hail | C12: 170.64398 | D12: 176.06869 | E12: 0.031789635
A13: 9 | B13: Northern Borders | C13: 159.60838 | D13: 133.14956 | E13: -0.16577336
A14: 10 | B14: Jazan | C14: 196.99812 | D14: 214.33065 | E14: 0.087983238
A15: 11 | B15: Najran | C15: 92.650892 | D15: 95.655968 | E15: 0.032434401
A16: 12 | B16: Al Bahah | C16: 162.51504 | D16: 147.19046 | E16: -0.094296395
A17: 13 | B17: Al Jawf | C17: 121.6008 | D17: 132.36295 | E17: 0.088503892
A18: Source: Ministry of Tourism - Tourism Monitoring Platform (Preliminary data). | D18: Back to Main Menu

Sheet 2.24
A2: Change over Q2 of 2025 in average daily rate of hotels by region
A3: Table 2.24
A4: Administrative regions | C4: Q2 of 2025 | D4: Q2 of 2026 | E4: Change rate
A5: 1 | B5: Ar Riyadh | C5: 739.29134 | D5: 540.91171 | E5: -0.26833756
A6: 2 | B6: Makkah Al Mukarramah | C6: 680.66628 | D6: 585.311 | E6: -0.14009109
A7: 3 | B7: Al Madinah Al Munawwarah | C7: 636.6248 | D7: 589.45944 | E7: -0.074086578
A8: 4 | B8: Al Qaseem | C8: 431.59773 | D8: 389.62507 | E8: -0.097249504
A9: 5 | B9: Eastern region | C9: 450.42142 | D9: 433.0886 | E9: -0.038481339
A10: 6 | B10: Aseer | C10: 316.82771 | D10: 297.05994 | E10: -0.062392802
A11: 7 | B11: Tabuk | C11: 717.9999 | D11: 738.42236 | E11: 0.028443532
A12: 8 | B12: Hail | C12: 445.70294 | D12: 331.05371 | E12: -0.25723239
A13: 9 | B13: Northern Borders | C13: 182.09478 | D13: 207.04853 | E13: 0.13703719
A14: 10 | B14: Jazan | C14: 309.84873 | D14: 290.26353 | E14: -0.063208904
A15: 11 | B15: Najran | C15: 235.71513 | D15: 199.78716 | E15: -0.15242111
A16: 12 | B16: Al Bahah | C16: 354.60996 | D16: 331.1086 | E16: -0.066273835
A17: 13 | B17: Al Jawf | C17: 288.91659 | D17: 245.92158 | E17: -0.14881462
A18: Source: Ministry of Tourism - Tourism Monitoring Platform (Preliminary data). | D18: Back to Main Menu

Sheet 2.25
A2: Change over Q2 of 2025 in average legth of stay of serviced apartments other hospitality facilities by region
A3: Table 2.25
A4: Administrative regions | C4: Q2 of 2025 | D4: Q2 of 2026 | E4: Change rate
A5: 1 | B5: Ar Riyadh | C5: 2.2173836 | D5: 2.0918932 | E5: -0.056593915
A6: 2 | B6: Makkah Al Mukarramah | C6: 1.8797927 | D6: 1.9131732 | E6: 0.017757528
A7: 3 | B7: Al Madinah Al Munawwarah | C7: 2.5973079 | D7: 2.6133781 | E7: 0.0061872456
A8: 4 | B8: Al Qaseem | C8: 1.7314319 | D8: 1.6848615 | E8: -0.026897064
A9: 5 | B9: Eastern region | C9: 2.0025107 | D9: 2.0118141 | E9: 0.0046458459
A10: 6 | B10: Aseer | C10: 1.8016593 | D10: 1.7830128 | E10: -0.010349668
A11: 7 | B11: Tabuk | C11: 2.0896564 | D11: 1.8860008 | E11: -0.097458893
A12: 8 | B12: Hail | C12: 1.8368564 | D12: 1.742493 | E12: -0.05137223
A13: 9 | B13: Northern Borders | C13: 1.9724131 | D13: 1.8679914 | E13: -0.052941086
A14: 10 | B14: Jazan | C14: 2.0523449 | D14: 1.7272559 | E14: -0.15839881
A15: 11 | B15: Najran | C15: 2.1738624 | D15: 2.1689579 | E15: -0.0022561275
A16: 12 | B16: Al Bahah | C16: 1.7023947 | D16: 1.8047874 | E16: 0.060146266
A17: 13 | B17: Al Jawf | C17: 1.9104134 | D17: 1.7977312 | E17: -0.05898313
A18: Source: Ministry of Tourism - Tourism Monitoring Platform (Preliminary data). | D18: Back to Main Menu

Sheet 2.26
A2: Change over Q2 of 2025 in average length of stay of hotels by region
A3: Table 2.26
A4: Administrative regions | C4: Q2 of 2025 | D4: Q2 of 2026 | E4: Change rate
A5: 1 | B5: Ar Riyadh | C5: 2.4690118 | D5: 2.1263248 | E5: -0.13879521
A6: 2 | B6: Makkah Al Mukarramah | C6: 6.6647714 | D6: 7.2931201 | E6: 0.094279109
A7: 3 | B7: Al Madinah Al Munawwarah | C7: 4.4320069 | D7: 4.3014603 | E7: -0.029455414
A8: 4 | B8: Al Qaseem | C8: 1.709079 | D8: 1.6672339 | E8: -0.024484041
A9: 5 | B9: Eastern region | C9: 2.2199718 | D9: 2.1007244 | E9: -0.053715706
A10: 6 | B10: Aseer | C10: 1.7884791 | D10: 1.8333737 | E10: 0.025102131
A11: 7 | B11: Tabuk | C11: 2.2833473 | D11: 2.4748565 | E11: 0.083872103
A12: 8 | B12: Hail | C12: 1.6479574 | D12: 1.6149052 | E12: -0.020056464
A13: 9 | B13: Northern Borders | C13: 1.8840824 | D13: 2.287801 | E13: 0.21427864
A14: 10 | B14: Jazan | C14: 1.8728976 | D14: 1.7476143 | E14: -0.066892721
A15: 11 | B15: Najran | C15: 1.5746143 | D15: 1.6083 | E15: 0.021392987
A16: 12 | B16: Al Bahah | C16: 1.5671623 | D16: 1.8539599 | E16: 0.18300442
A17: 13 | B17: Al Jawf | C17: 1.9230912 | D17: 1.7980192 | E17: -0.065036968
A18: Source: Ministry of Tourism - Tourism Monitoring Platform (Preliminary data). | D18: Back to Main Menu

Sheet 2.27
A2: Change over Q2 of 2025 in occupancy rate by month and type of facility
A3: Table 2.27
A4: Type of facility | C4: April | D4: May | E4: June
A5: Hotels
A6: 1 | B6: Q2 of 2025 | C6: 0.50274156 | D6: 0.55766851 | E6: 0.54350528
A7: 2 | B7: Q2of 2026 | C7: 0.45820091 | D7: 0.59858849 | E7: 0.47599315
A8: Hotels change rate | C8: =C7-C6 -> -0.044540651 | D8: =D7-D6 -> 0.040919978 | E8: =E7-E6 -> -0.067512127
A9: Serviced apartments and other hospitality facilities
A10: 1 | B10: Q2 of 2025 | C10: 0.51561324 | D10: 0.53549455 | E10: 0.45436007
A11: 2 | B11: Q2 of 2026 | C11: 0.47377182 | D11: 0.48159146 | E11: 0.43623471
A12: Serviced apartments and other hospitality facilities change rate | C12: =C11-C10 -> -0.041841422 | D12: =D11-D10 -> -0.053903083 | E12: =E11-E10 -> -0.018125365
A13: Source: Ministry of Tourism - Tourism Monitoring Platform (Preliminary data). | D13: Back to Main Menu

Sheet 2.28
A2: Change over Q2 of 2025 in average daily rate by month and type of facility
A3: Table 2.28
A4: Type of facility | C4: April | D4: May | E4: June
A5: Hotels
A6: 1 | B6: Q2 of 2025 | C6: 422.61317 | D6: 875.11269 | E6: 602.86227
A7: 2 | B7: Q2 of 2026 | C7: 402.72568 | D7: 847.50596 | E7: 383.36759
A8: Hotels change rate | C8: =(C7-C6)/C6 -> -0.047058371 | D8: =(D7-D6)/D6 -> -0.031546481 | E8: =(E7-E6)/E6 -> -0.3640876
A9: Serviced apartments and other hospitality facilities
A10: 1 | B10: Q2 of 2025 | C10: 201.54441 | D10: 198.91121 | E10: 204.20274
A11: 2 | B11: Q2 of 2026 | C11: 191.91557 | D11: 205.12667 | E11: 194.54685
A12: Serviced apartments and other hospitality facilities change rate | C12: =(C11-C10)/C10 -> -0.047775235 | D12: =(D11-D10)/D10 -> 0.031247409 | E12: =(E11-E10)/E10 -> -0.04728582
A13: Source: Ministry of Tourism - Tourism Monitoring Platform (Preliminary data). | D13: Back to Main Menu

Sheet 2.29
A2: Change over Q2 of 2025 in the average length of stay by month and type of facility
A3: Table 2.29 | E3: Night
A4: Type of facility | C4: April | D4: May | E4: June
A5: Hotels
A6: 1 | B6: Q2 of 2025 | C6: 3.7961686 | D6: 7.0391244 | E6: 3.6817112
A7: 2 | B7: Q2 of 2026 | C7: 3.9522638 | D7: 6.033936 | E7: 5.1263563
A8: Hotels change rate | C8: =(C7-C6)/C6 -> 0.041119145 | D8: =(D7-D6)/D6 -> -0.1428002 | E8: =(E7-E6)/E6 -> 0.39238416
A9: Serviced Apartments & Other Hospitality Facilities
A10: 1 | B10: Q2 of 2025 | C10: 2.0646939 | D10: 2.0022331 | E10: 2.0292652
A11: 2 | B11: Q2 of 2026 | C11: 2.0057869 | D11: 1.9156988 | E11: 2.0593725
A12: Serviced apartments and other hospitality facilities change rate | C12: =(C11-C10)/C10 -> -0.028530588 | D12: =(D11-D10)/D10 -> -0.043218887 | E12: =(E11-E10)/E10 -> 0.014836532
A13: Source: Ministry of Tourism - Tourism Monitoring Platform (Preliminary data). | D13: Back to Main Menu

Sheet 3.1
A2: Number of Saudi employees in tourism activities by gender and activity for Q2 of 2026
A3: Table 3.1
A4: Tourism activity | C4: Males | D4: Females | E4: Total | F4: Saudi share by activity
A5: 1 | B5: Accommodation for visitors | C5: 36624 | D5: 24348 | E5: =C5+D5 -> 60972 | F5: 0.35325199
A6: 2 | B6: Food and beverage serving activities | C6: 54302 | D6: 61546 | E6: =C6+D6 -> 115848 | F6: 0.17693255
A7: 3 | B7: Railway passenger transport | C7: 4170 | D7: 577 | E7: =C7+D7 -> 4747 | F7: 0.68282509
A8: 4 | B8: Road passenger transport | C8: 4962 | D8: 3929 | E8: =C8+D8 -> 8891 | F8: 0.19416479
A9: 5 | B9: Water passenger transport | C9: 669 | D9: 608 | E9: =C9+D9 -> 1277 | F9: 0.3169521
A10: 6 | B10: Air passenger transport | C10: 6162 | D10: 798 | E10: =C10+D10 -> 6960 | F10: 0.63730428
A11: 7 | B11: Transport equipment rental | C11: 6586 | D11: 1560 | E11: =C11+D11 -> 8146 | F11: 0.39831793
A12: 8 | B12: Travel agencies and other reservation services activities | C12: 10322 | D12: 4476 | E12: =C12+D12 -> 14798 | F12: 0.49120361
A13: 9 | B13: Cultural activities | C13: 1299 | D13: 813 | E13: =C13+D13 -> 2112 | F13: 0.52985449
A14: 10 | B14: Sports and recreational activities | C14: 2685 | D14: 3618 | E14: =C14+D14 -> 6303 | F14: 0.26969321
A15: 11 | B15: Other tourism characteristic services in the country | C15: 3440 | D15: 3732 | E15: =C15+D15 -> 7172 | F15: 0.3672299
A16: 12 | B16: Retail trade of tourism characteristic goods in the country | C16: 6681 | D16: 14136 | E16: =C16+D16 -> 20817 | F16: 0.27175176
A17: Total | C17: =SUM(C5:C16) -> 137902 | D17: =SUM(D5:D16) -> 120141 | E17: =SUM(E5:E16) -> 258043 | F17: 0.24136018
A18: Source: The Ministry of Human Resources and Social Development. | E18: Back to Main Menu

Sheet 3.2
A2: Number of non-Saudi employees in tourism activities by gender and activity for Q2 of 2026
A3: Table 3.2
A4: Tourism activity | C4: Males | D4: Females | E4: Total | F4: Non-Saudi share by activity
A5: 1 | B5: Accommodation for visitors | C5: 107980 | D5: 3650 | E5: =D5+C5 -> 111630 | F5: 0.64674801
A6: 2 | B6: Food and beverage serving activities | C6: 529652 | D6: 9258 | E6: =D6+C6 -> 538910 | F6: 0.82306745
A7: 3 | B7: Railway passenger transport | C7: 2191 | D7: 14 | E7: =D7+C7 -> 2205 | F7: 0.31717491
A8: 4 | B8: Road passenger transport | C8: 36568 | D8: 332 | E8: =D8+C8 -> 36900 | F8: 0.80583521
A9: 5 | B9: Water passenger transport | C9: 2690 | D9: 62 | E9: =D9+C9 -> 2752 | F9: 0.6830479
A10: 6 | B10: Air passenger transport | C10: 2590 | D10: 1371 | E10: =D10+C10 -> 3961 | F10: 0.36269572
A11: 7 | B11: Transport equipment rental | C11: 12206 | D11: 99 | E11: =D11+C11 -> 12305 | F11: 0.60168207
A12: 8 | B12: Travel agencies and other reservation services activities | C12: 14590 | D12: 738 | E12: =D12+C12 -> 15328 | F12: 0.50879639
A13: 9 | B13: Cultural activities | C13: 1719 | D13: 155 | E13: =D13+C13 -> 1874 | F13: 0.47014551
A14: 10 | B14: Sports and recreational activities | C14: 15964 | D14: 1104 | E14: =D14+C14 -> 17068 | F14: 0.73030679
A15: 11 | B15: Other tourism characteristic services in the country | C15: 11342 | D15: 1016 | E15: =D15+C15 -> 12358 | F15: 0.6327701
A16: 12 | B16: Retail trade of tourism characteristic goods in the country | C16: 53013 | D16: 2773 | E16: =D16+C16 -> 55786 | F16: 0.72824824
A17: Total | C17: =SUM(C5:C16) -> 790505 | D17: =SUM(D5:D16) -> 20572 | E17: =SUM(E5:E16) -> 811077 | F17: 0.75863982
A18: Source: The Ministry of Human Resources and Social Development. | E18: Back to Main Menu

Sheet 3.3
A2: Total number of employees in tourism activities by gender and activity for Q2 of 2026
A3: Table 3.3
A4: Tourism activity | C4: Males | D4: Females | E4: Total | F4: Activity share from total
A5: 1 | B5: Accommodation for visitors | C5: 144604 | D5: 27998 | E5: =D5+C5 -> 172602 | F5: 0.16144306
A6: 2 | B6: Food and beverage serving activities | C6: 583954 | D6: 70804 | E6: =D6+C6 -> 654758 | F6: 0.61242704
A7: 3 | B7: Railway passenger transport | C7: 6361 | D7: 591 | E7: =D7+C7 -> 6952 | F7: 0.0065025441
A8: 4 | B8: Road passenger transport | C8: 41530 | D8: 4261 | E8: =D8+C8 -> 45791 | F8: 0.042830552
A9: 5 | B9: Water passenger transport | C9: 3359 | D9: 670 | E9: =D9+C9 -> 4029 | F9: 0.0037685199
A10: 6 | B10: Air passenger transport | C10: 8752 | D10: 2169 | E10: =D10+C10 -> 10921 | F10: 0.010214943
A11: 7 | B11: Transport equipment rental | C11: 18792 | D11: 1659 | E11: =D11+C11 -> 20451 | F11: 0.019128816
A12: 8 | B12: Travel agencies and other reservation services activities | C12: 24912 | D12: 5214 | E12: =D12+C12 -> 30126 | F12: 0.028178315
A13: 9 | B13: Cultural activities | C13: 3018 | D13: 968 | E13: =D13+C13 -> 3986 | F13: 0.0037282999
A14: 10 | B14: Sports and recreational activities | C14: 18649 | D14: 4722 | E14: =D14+C14 -> 23371 | F14: 0.021860034
A15: 11 | B15: Other tourism characteristic services in the country | C15: 14782 | D15: 4748 | E15: =D15+C15 -> 19530 | F15: 0.01826736
A16: 12 | B16: Retail trade of tourism characteristic goods in the country | C16: 59694 | D16: 16909 | E16: =D16+C16 -> 76603 | F16: 0.071650516
A17: Total | C17: =SUM(C5:C16) -> 928407 | D17: =SUM(D5:D16) -> 140713 | E17: =SUM(E5:E16) -> 1069120 | F17: 1
A18: Source: The Ministry of Human Resources and Social Development. | E18: Back to Main Menu

Sheet 3.4
A2: Number of Saudi employees in tourism activities by gender and regions for Q2 of 2026
A3: Table 3.4
A4: Administrative regions | C4: Males | D4: Females | E4: Total | F4: Participation of Saudis by regions
A5: 1 | B5: Ar Riyadh | C5: 53676 | D5: 48760 | E5: =D5+C5 -> 102436 | F5: 0.28943673
A6: 2 | B6: Makkah Al Mukarramah | C6: 45855 | D6: 32855 | E6: =D6+C6 -> 78710 | F6: 0.26330579
A7: 3 | B7: Al Madinah Al Munawwarah | C7: 7857 | D7: 5893 | E7: =D7+C7 -> 13750 | F7: 0.21577766
A8: 4 | B8: Al Qaseem | C8: 3298 | D8: 2662 | E8: =D8+C8 -> 5960 | F8: 0.16939037
A9: 5 | B9: Eastern region | C9: 16146 | D9: 19101 | E9: =D9+C9 -> 35247 | F9: 0.22179782
A10: 6 | B10: Aseer | C10: 3719 | D10: 3870 | E10: =D10+C10 -> 7589 | F10: 0.15126871
A11: 7 | B11: Tabuk | C11: 2785 | D11: 2352 | E11: =D11+C11 -> 5137 | F11: 0.17876531
A12: 8 | B12: Hail | C12: 982 | D12: 803 | E12: =D12+C12 -> 1785 | F12: 0.12816831
A13: 9 | B13: Northern Borders | C13: 431 | D13: 430 | E13: =D13+C13 -> 861 | F13: 0.11324477
A14: 10 | B14: Jazan | C14: 1522 | D14: 1716 | E14: =D14+C14 -> 3238 | F14: 0.11029362
A15: 11 | B15: Najran | C15: 517 | D15: 718 | E15: =D15+C15 -> 1235 | F15: 0.096394006
A16: 12 | B16: Al Bahah | C16: 546 | D16: 493 | E16: =D16+C16 -> 1039 | F16: 0.14352811
A17: 13 | B17: Al Jawf | C17: 568 | D17: 488 | E17: =D17+C17 -> 1056 | F17: 0.12267658
A18: Total | C18: =SUM(C5:C17) -> 137902 | D18: =SUM(D5:D17) -> 120141 | E18: =SUM(E5:E17) -> 258043 | F18: 0.24136018
A19: Source: The Ministry of Human Resources and Social Development. | E19: Back to Main Menu

Sheet 3.5
A2: Number of non-Saudi employees in tourism activities by gender and regions for Q2 of 2026
A3: Table 3.5
A4: Administrative regions | C4: Males | D4: Females | E4: Total | F4: The participation of non-Saudis by regions
A5: 1 | B5: Ar Riyadh | C5: 243380 | D5: 8099 | E5: =D5+C5 -> 251479 | F5: 0.71056327
A6: 2 | B6: Makkah Al Mukarramah | C6: 214172 | D6: 6048 | E6: =D6+C6 -> 220220 | F6: 0.73669421
A7: 3 | B7: Al Madinah Al Munawwarah | C7: 49048 | D7: 925 | E7: =D7+C7 -> 49973 | F7: 0.78422234
A8: 4 | B8: Al Qaseem | C8: 28847 | D8: 378 | E8: =D8+C8 -> 29225 | F8: 0.83060963
A9: 5 | B9: Eastern region | C9: 121170 | D9: 2498 | E9: =D9+C9 -> 123668 | F9: 0.77820218
A10: 6 | B10: Aseer | C10: 42070 | D10: 510 | E10: =D10+C10 -> 42580 | F10: 0.84873129
A11: 7 | B11: Tabuk | C11: 22515 | D11: 1084 | E11: =D11+C11 -> 23599 | F11: 0.82123469
A12: 8 | B12: Hail | C12: 12008 | D12: 134 | E12: =D12+C12 -> 12142 | F12: 0.87183169
A13: 9 | B13: Northern Borders | C13: 6607 | D13: 135 | E13: =D13+C13 -> 6742 | F13: 0.88675523
A14: 10 | B14: Jazan | C14: 25798 | D14: 322 | E14: =D14+C14 -> 26120 | F14: 0.88970638
A15: 11 | B15: Najran | C15: 11291 | D15: 286 | E15: =D15+C15 -> 11577 | F15: 0.90360599
A16: 12 | B16: Al Bahah | C16: 6141 | D16: 59 | E16: =D16+C16 -> 6200 | F16: 0.85647189
A17: 13 | B17: Al Jawf | C17: 7458 | D17: 94 | E17: =D17+C17 -> 7552 | F17: 0.87732342
A18: Total | C18: =SUM(C5:C17) -> 790505 | D18: =SUM(D5:D17) -> 20572 | E18: =SUM(E5:E17) -> 811077 | F18: 0.75863982
A19: Source: The Ministry of Human Resources and Social Development. | E19: Back to Main Menu

Sheet 3.6
A2: Total number of employees in tourism activities by gender and regions for Q2 of 2026
A3: Table 3.6
A4: Administrative regions | C4: Males | D4: Females | E4: Total | F4: Regions share from total
A5: 1 | B5: Ar Riyadh | C5: ='3.4'!C5+'3.5'!C5 -> 297056 | D5: ='3.4'!D5+'3.5'!D5 -> 56859 | E5: =D5+C5 -> 353915 | F5: =E5/$E$18 -> 0.33103393
A6: 2 | B6: Makkah Al Mukarramah | C6: ='3.4'!C6+'3.5'!C6 -> 260027 | D6: ='3.4'!D6+'3.5'!D6 -> 38903 | E6: =D6+C6 -> 298930 | F6: =E6/$E$18 -> 0.27960379
A7: 3 | B7: Al Madinah Al Munawwarah | C7: ='3.4'!C7+'3.5'!C7 -> 56905 | D7: ='3.4'!D7+'3.5'!D7 -> 6818 | E7: =D7+C7 -> 63723 | F7: =E7/$E$18 -> 0.059603225
A8: 4 | B8: Al Qaseem | C8: ='3.4'!C8+'3.5'!C8 -> 32145 | D8: ='3.4'!D8+'3.5'!D8 -> 3040 | E8: =D8+C8 -> 35185 | F8: =E8/$E$18 -> 0.032910244
A9: 5 | B9: Eastern region | C9: ='3.4'!C9+'3.5'!C9 -> 137316 | D9: ='3.4'!D9+'3.5'!D9 -> 21599 | E9: =D9+C9 -> 158915 | F9: =E9/$E$18 -> 0.14864094
A10: 6 | B10: Aseer | C10: ='3.4'!C10+'3.5'!C10 -> 45789 | D10: ='3.4'!D10+'3.5'!D10 -> 4380 | E10: =D10+C10 -> 50169 | F10: =E10/$E$18 -> 0.046925509
A11: 7 | B11: Tabuk | C11: ='3.4'!C11+'3.5'!C11 -> 25300 | D11: ='3.4'!D11+'3.5'!D11 -> 3436 | E11: =D11+C11 -> 28736 | F11: =E11/$E$18 -> 0.02687818
A12: 8 | B12: Hail | C12: ='3.4'!C12+'3.5'!C12 -> 12990 | D12: ='3.4'!D12+'3.5'!D12 -> 937 | E12: =D12+C12 -> 13927 | F12: =E12/$E$18 -> 0.013026601
A13: 9 | B13: Northern Borders | C13: ='3.4'!C13+'3.5'!C13 -> 7038 | D13: ='3.4'!D13+'3.5'!D13 -> 565 | E13: =D13+C13 -> 7603 | F13: =E13/$E$18 -> 0.0071114562
A14: 10 | B14: Jazan | C14: ='3.4'!C14+'3.5'!C14 -> 27320 | D14: ='3.4'!D14+'3.5'!D14 -> 2038 | E14: =D14+C14 -> 29358 | F14: =E14/$E$18 -> 0.027459967
A15: 11 | B15: Najran | C15: ='3.4'!C15+'3.5'!C15 -> 11808 | D15: ='3.4'!D15+'3.5'!D15 -> 1004 | E15: =D15+C15 -> 12812 | F15: =E15/$E$18 -> 0.011983688
A16: 12 | B16: Al Bahah | C16: ='3.4'!C16+'3.5'!C16 -> 6687 | D16: ='3.4'!D16+'3.5'!D16 -> 552 | E16: =D16+C16 -> 7239 | F16: =E16/$E$18 -> 0.0067709892
A17: 13 | B17: Al Jawf | C17: ='3.4'!C17+'3.5'!C17 -> 8026 | D17: ='3.4'!D17+'3.5'!D17 -> 582 | E17: =D17+C17 -> 8608 | F17: =E17/$E$18 -> 0.0080514816
A18: Total | C18: =SUM(C5:C17) -> 928407 | D18: =SUM(D5:D17) -> 140713 | E18: =SUM(E5:E17) -> 1069120 | F18: =E18/$E$18 -> 1
A19: Source: The Ministry of Human Resources and Social Development. | E19: Back to Main Menu

Sheet 3.7
A2: Change over Q2 of 2025 in number of Saudi employees in tourism activities by activity
A3: Table 3.7
A4: Tourism activity | C4: Q2 of 2025 | D4: Q2 of 2026 | E4: Change rate
A5: 1 | B5: Accommodation for visitors | C5: 53857 | D5: ='3.1'!E5 -> 60972 | E5: =(D5-C5)/C5 -> 0.1321091
A6: 2 | B6: Food and beverage serving activities | C6: 115647 | D6: ='3.1'!E6 -> 115848 | E6: =(D6-C6)/C6 -> 0.0017380477
A7: 3 | B7: Railway passenger transport | C7: 3805 | D7: ='3.1'!E7 -> 4747 | E7: =(D7-C7)/C7 -> 0.24756899
A8: 4 | B8: Road passenger transport | C8: 6721 | D8: ='3.1'!E8 -> 8891 | E8: =(D8-C8)/C8 -> 0.32286862
A9: 5 | B9: Water passenger transport | C9: 569 | D9: ='3.1'!E9 -> 1277 | E9: =(D9-C9)/C9 -> 1.2442882
A10: 6 | B10: Air passenger transport | C10: 13614 | D10: ='3.1'!E10 -> 6960 | E10: =(D10-C10)/C10 -> -0.48876157
A11: 7 | B11: Transport equipment rental | C11: 9047 | D11: ='3.1'!E11 -> 8146 | E11: =(D11-C11)/C11 -> -0.099591025
A12: 8 | B12: Travel agencies and other reservation services activities | C12: 7658 | D12: ='3.1'!E12 -> 14798 | E12: =(D12-C12)/C12 -> 0.93235832
A13: 9 | B13: Cultural activities | C13: 1885 | D13: ='3.1'!E13 -> 2112 | E13: =(D13-C13)/C13 -> 0.1204244
A14: 10 | B14: Sports and recreational activities | C14: 6420 | D14: ='3.1'!E14 -> 6303 | E14: =(D14-C14)/C14 -> -0.018224299
A15: 11 | B15: Other tourism characteristic services in the country | C15: 8341 | D15: ='3.1'!E15 -> 7172 | E15: =(D15-C15)/C15 -> -0.14015106
A16: 12 | B16: Retail trade of tourism characteristic goods in the country | C16: 20036 | D16: ='3.1'!E16 -> 20817 | E16: =(D16-C16)/C16 -> 0.038979836
A17: Total | C17: =SUM(C5:C16) -> 247600 | D17: =SUM(D5:D16) -> 258043 | E17: =(D17-C17)/C17 -> 0.042176898
A18: Source: Ministry of human resources and social development. | D18: Back to Main Menu

Sheet 3.8
A2: Change over Q2 of 2025 in number of non-Saudi employees in tourism activities by activity
A3: Table 3.8
A4: Tourism activity | C4: Q2 of 2025 | D4: Q2 of 2026 | E4: Change rate
A5: 1 | B5: Accommodation for visitors | C5: 85838 | D5: ='3.2'!E5 -> 111630 | E5: =(D5-C5)/C5 -> 0.30047298
A6: 2 | B6: Food and beverage serving activities | C6: 529086 | D6: ='3.2'!E6 -> 538910 | E6: =(D6-C6)/C6 -> 0.01856787
A7: 3 | B7: Railway passenger transport | C7: 666 | D7: ='3.2'!E7 -> 2205 | E7: =(D7-C7)/C7 -> 2.3108108
A8: 4 | B8: Road passenger transport | C8: 26340 | D8: ='3.2'!E8 -> 36900 | E8: =(D8-C8)/C8 -> 0.40091116
A9: 5 | B9: Water passenger transport | C9: 1019 | D9: ='3.2'!E9 -> 2752 | E9: =(D9-C9)/C9 -> 1.7006869
A10: 6 | B10: Air passenger transport | C10: 7365 | D10: ='3.2'!E10 -> 3961 | E10: =(D10-C10)/C10 -> -0.46218601
A11: 7 | B11: Transport equipment rental | C11: 12984 | D11: ='3.2'!E11 -> 12305 | E11: =(D11-C11)/C11 -> -0.052295132
A12: 8 | B12: Travel agencies and other reservation services activities | C12: 12581 | D12: ='3.2'!E12 -> 15328 | E12: =(D12-C12)/C12 -> 0.21834512
A13: 9 | B13: Cultural activities | C13: 1898 | D13: ='3.2'!E13 -> 1874 | E13: =(D13-C13)/C13 -> -0.012644889
A14: 10 | B14: Sports and recreational activities | C14: 15544 | D14: ='3.2'!E14 -> 17068 | E14: =(D14-C14)/C14 -> 0.098044261
A15: 11 | B15: Other tourism characteristic services in the country | C15: 10770 | D15: ='3.2'!E15 -> 12358 | E15: =(D15-C15)/C15 -> 0.14744661
A16: 12 | B16: Retail trade of tourism characteristic goods in the country | C16: 45666 | D16: ='3.2'!E16 -> 55786 | E16: =(D16-C16)/C16 -> 0.22160907
A17: Total | C17: =SUM(C5:C16) -> 749757 | D17: =SUM(D5:D16) -> 811077 | E17: =(D17-C17)/C17 -> 0.081786499
A18: Source: Ministry of human resources and social development. | D18: Back to Main Menu

Sheet 3.9
A2: Change over Q2 of 2025 in male employees in tourism activities by activity
A3: Table 3.9
A4: Tourism activity | C4: Q2 of 2025 | D4: Q2 of 2026 | E4: Change rate
A5: 1 | B5: Accommodation for visitors | C5: 116121 | D5: 144604 | E5: =(D5-C5)/C5 -> 0.24528724
A6: 2 | B6: Food and beverage serving activities | C6: 577708 | D6: 583954 | E6: =(D6-C6)/C6 -> 0.01081169
A7: 3 | B7: Railway passenger transport | C7: 4268 | D7: 6361 | E7: =(D7-C7)/C7 -> 0.49039363
A8: 4 | B8: Road passenger transport | C8: 30045 | D8: 41530 | E8: =(D8-C8)/C8 -> 0.38225994
A9: 5 | B9: Water passenger transport | C9: 1341 | D9: 3359 | E9: =(D9-C9)/C9 -> 1.5048471
A10: 6 | B10: Air passenger transport | C10: 14547 | D10: 8752 | E10: =(D10-C10)/C10 -> -0.39836392
A11: 7 | B11: Transport equipment rental | C11: 20291 | D11: 18792 | E11: =(D11-C11)/C11 -> -0.073875117
A12: 8 | B12: Travel agencies and other reservation services activities | C12: 16147 | D12: 24912 | E12: =(D12-C12)/C12 -> 0.54282529
A13: 9 | B13: Cultural activities | C13: 2884 | D13: 3018 | E13: =(D13-C13)/C13 -> 0.046463245
A14: 10 | B14: Sports and recreational activities | C14: 17268 | D14: 18649 | E14: =(D14-C14)/C14 -> 0.079974519
A15: 11 | B15: Other tourism characteristic services in the country | C15: 14502 | D15: 14782 | E15: =(D15-C15)/C15 -> 0.019307682
A16: 12 | B16: Retail trade of tourism characteristic goods in the country | C16: 50504 | D16: 59694 | E16: =(D16-C16)/C16 -> 0.18196578
A17: Total | C17: =SUM(C5:C16) -> 865626 | D17: 928407 | E17: =(D17-C17)/C17 -> 0.072526703
A18: Source: The Ministry of Human Resources and Social Development. | D18: Back to Main Menu

Sheet 3.10
A2: Change over Q2 of 2025 in female employees in tourism activities by activity
A3: Table 3.10
A4: Tourism activity | C4: Q2 of 2025 | D4: Q2 of 2026 | E4: Change rate
A5: 1 | B5: Accommodation for visitors | C5: 23574 | D5: 27998 | E5: =(D5-C5)/C5 -> 0.18766438
A6: 2 | B6: Food and beverage serving activities | C6: 67025 | D6: 70804 | E6: =(D6-C6)/C6 -> 0.056381947
A7: 3 | B7: Railway passenger transport | C7: 203 | D7: 591 | E7: =(D7-C7)/C7 -> 1.91133
A8: 4 | B8: Road passenger transport | C8: 3016 | D8: 4261 | E8: =(D8-C8)/C8 -> 0.41279841
A9: 5 | B9: Water passenger transport | C9: 247 | D9: 670 | E9: =(D9-C9)/C9 -> 1.7125506
A10: 6 | B10: Air passenger transport | C10: 6432 | D10: 2169 | E10: =(D10-C10)/C10 -> -0.66277985
A11: 7 | B11: Transport equipment rental | C11: 1740 | D11: 1659 | E11: =(D11-C11)/C11 -> -0.046551724
A12: 8 | B12: Travel agencies and other reservation services activities | C12: 4092 | D12: 5214 | E12: =(D12-C12)/C12 -> 0.27419355
A13: 9 | B13: Cultural activities | C13: 899 | D13: 968 | E13: =(D13-C13)/C13 -> 0.076751947
A14: 10 | B14: Sports and recreational activities | C14: 4696 | D14: 4722 | E14: =(D14-C14)/C14 -> 0.0055366269
A15: 11 | B15: Other tourism characteristic services in the country | C15: 4609 | D15: 4748 | E15: =(D15-C15)/C15 -> 0.030158386
A16: 12 | B16: Retail trade of tourism characteristic goods in the country | C16: 15198 | D16: 16909 | E16: =(D16-C16)/C16 -> 0.1125806
A17: Total | C17: =SUM(C5:C16) -> 131731 | D17: 140713 | E17: =(D17-C17)/C17 -> 0.068184406
A18: Source: The Ministry of Human Resources and Social Development. | D18: Back to Main Menu

Sheet 3.11
A2: Change over Q2 of 2025 in total employees in tourism activities by activity
A3: Table 3.11
A4: Tourism activity | C4: Q2 of 2025 | D4: Q2 of 2026 | E4: Change rate
A5: 1 | B5: Accommodation for visitors | C5: ='3.7'!C5+'3.8'!C5 -> 139695 | D5: ='3.3'!E5 -> 172602 | E5: =(D5-C5)/C5 -> 0.23556319
A6: 2 | B6: Food and beverage serving activities | C6: ='3.7'!C6+'3.8'!C6 -> 644733 | D6: ='3.3'!E6 -> 654758 | E6: =(D6-C6)/C6 -> 0.015549072
A7: 3 | B7: Railway passenger transport | C7: ='3.7'!C7+'3.8'!C7 -> 4471 | D7: ='3.3'!E7 -> 6952 | E7: =(D7-C7)/C7 -> 0.55490942
A8: 4 | B8: Road passenger transport | C8: ='3.7'!C8+'3.8'!C8 -> 33061 | D8: ='3.3'!E8 -> 45791 | E8: =(D8-C8)/C8 -> 0.38504582
A9: 5 | B9: Water passenger transport | C9: ='3.7'!C9+'3.8'!C9 -> 1588 | D9: ='3.3'!E9 -> 4029 | E9: =(D9-C9)/C9 -> 1.5371537
A10: 6 | B10: Air passenger transport | C10: ='3.7'!C10+'3.8'!C10 -> 20979 | D10: ='3.3'!E10 -> 10921 | E10: =(D10-C10)/C10 -> -0.47943181
A11: 7 | B11: Transport equipment rental | C11: ='3.7'!C11+'3.8'!C11 -> 22031 | D11: ='3.3'!E11 -> 20451 | E11: =(D11-C11)/C11 -> -0.071717126
A12: 8 | B12: Travel agencies and other reservation services activities | C12: ='3.7'!C12+'3.8'!C12 -> 20239 | D12: ='3.3'!E12 -> 30126 | E12: =(D12-C12)/C12 -> 0.48851228
A13: 9 | B13: Cultural activities | C13: ='3.7'!C13+'3.8'!C13 -> 3783 | D13: ='3.3'!E13 -> 3986 | E13: =(D13-C13)/C13 -> 0.053661116
A14: 10 | B14: Sports and recreational activities | C14: ='3.7'!C14+'3.8'!C14 -> 21964 | D14: ='3.3'!E14 -> 23371 | E14: =(D14-C14)/C14 -> 0.06405937
A15: 11 | B15: Other tourism characteristic services in the country | C15: ='3.7'!C15+'3.8'!C15 -> 19111 | D15: ='3.3'!E15 -> 19530 | E15: =(D15-C15)/C15 -> 0.021924546
A16: 12 | B16: Retail trade of tourism characteristic goods in the country | C16: ='3.7'!C16+'3.8'!C16 -> 65702 | D16: ='3.3'!E16 -> 76603 | E16: =(D16-C16)/C16 -> 0.1659158
A17: Total | C17: =SUM(C5:C16) -> 997357 | D17: =SUM(D5:D16) -> 1069120 | E17: =(D17-C17)/C17 -> 0.071953172
A18: Source: The Ministry of Human Resources and Social Development. | D18: Back to Main Menu

Sheet 3.12
A2: Change over Q2 of 2025 in Saudi employees in tourism activities by region
A3: Table 3.12
A4: Administrative regions | C4: Q2 of 2025 | D4: Q2 of 2026 | E4: Change rate
A5: 1 | B5: Ar Riyadh | C5: 97505 | D5: ='3.4'!E5 -> 102436 | E5: =(D5-C5)/C5 -> 0.050571766
A6: 2 | B6: Makkah Al Mukarramah | C6: 74636 | D6: ='3.4'!E6 -> 78710 | E6: =(D6-C6)/C6 -> 0.054584919
A7: 3 | B7: Al Madinah Al Munawwarah | C7: 13684 | D7: ='3.4'!E7 -> 13750 | E7: =(D7-C7)/C7 -> 0.0048231511
A8: 4 | B8: Al Qaseem | C8: 5656 | D8: ='3.4'!E8 -> 5960 | E8: =(D8-C8)/C8 -> 0.053748232
A9: 5 | B9: Eastern region | C9: 34892 | D9: ='3.4'!E9 -> 35247 | E9: =(D9-C9)/C9 -> 0.010174252
A10: 6 | B10: Aseer | C10: 7409 | D10: ='3.4'!E10 -> 7589 | E10: =(D10-C10)/C10 -> 0.024294777
A11: 7 | B11: Tabuk | C11: 3964 | D11: ='3.4'!E11 -> 5137 | E11: =(D11-C11)/C11 -> 0.29591322
A12: 8 | B12: Hail | C12: 1878 | D12: ='3.4'!E12 -> 1785 | E12: =(D12-C12)/C12 -> -0.049520767
A13: 9 | B13: Northern Borders | C13: 872 | D13: ='3.4'!E13 -> 861 | E13: =(D13-C13)/C13 -> -0.012614679
A14: 10 | B14: Jazan | C14: 3602 | D14: ='3.4'!E14 -> 3238 | E14: =(D14-C14)/C14 -> -0.10105497
A15: 11 | B15: Najran | C15: 1267 | D15: ='3.4'!E15 -> 1235 | E15: =(D15-C15)/C15 -> -0.025256511
A16: 12 | B16: Al Bahah | C16: 1112 | D16: ='3.4'!E16 -> 1039 | E16: =(D16-C16)/C16 -> -0.065647482
A17: 13 | B17: Al Jawf | C17: 1123 | D17: ='3.4'!E17 -> 1056 | E17: =(D17-C17)/C17 -> -0.059661621
A18: Total | C18: =SUM(C5:C17) -> 247600 | D18: =SUM(D5:D17) -> 258043 | E18: =(D18-C18)/C18 -> 0.042176898
A19: Source: The Ministry of Human Resources and Social Development. | D19: Back to Main Menu

Sheet 3.13
A2: Change over Q2 of 2025 in non-Saudi employees in tourism activities by region
A3: Table 3.13
A4: Administrative regions | C4: Q2 of 2025 | D4: Q2 of 2026 | E4: Change rate
A5: 1 | B5: Ar Riyadh | C5: 231577 | D5: ='3.5'!E5 -> 251479 | E5: =(D5-C5)/C5 -> 0.085941177
A6: 2 | B6: Makkah Al Mukarramah | C6: 203782 | D6: ='3.5'!E6 -> 220220 | E6: =(D6-C6)/C6 -> 0.080664632
A7: 3 | B7: Al Madinah Al Munawwarah | C7: 47243 | D7: ='3.5'!E7 -> 49973 | E7: =(D7-C7)/C7 -> 0.057786339
A8: 4 | B8: Al Qaseem | C8: 26994 | D8: ='3.5'!E8 -> 29225 | E8: =(D8-C8)/C8 -> 0.082647996
A9: 5 | B9: Eastern region | C9: 115429 | D9: ='3.5'!E9 -> 123668 | E9: =(D9-C9)/C9 -> 0.07137721
A10: 6 | B10: Aseer | C10: 40307 | D10: ='3.5'!E10 -> 42580 | E10: =(D10-C10)/C10 -> 0.05639219
A11: 7 | B11: Tabuk | C11: 19020 | D11: ='3.5'!E11 -> 23599 | E11: =(D11-C11)/C11 -> 0.24074658
A12: 8 | B12: Hail | C12: 11169 | D12: ='3.5'!E12 -> 12142 | E12: =(D12-C12)/C12 -> 0.087116125
A13: 9 | B13: Northern Borders | C13: 6564 | D13: ='3.5'!E13 -> 6742 | E13: =(D13-C13)/C13 -> 0.027117611
A14: 10 | B14: Jazan | C14: 25002 | D14: ='3.5'!E14 -> 26120 | E14: =(D14-C14)/C14 -> 0.044716423
A15: 11 | B15: Najran | C15: 9669 | D15: ='3.5'!E15 -> 11577 | E15: =(D15-C15)/C15 -> 0.19733168
A16: 12 | B16: Al Bahah | C16: 5908 | D16: ='3.5'!E16 -> 6200 | E16: =(D16-C16)/C16 -> 0.049424509
A17: 13 | B17: Al Jawf | C17: 7093 | D17: ='3.5'!E17 -> 7552 | E17: =(D17-C17)/C17 -> 0.064711688
A18: Total | C18: =SUM(C5:C17) -> 749757 | D18: ='3.5'!E18 -> 811077 | E18: =(D18-C18)/C18 -> 0.081786499
A19: Source: The Ministry of Human Resources and Social Development. | D19: Back to Main Menu

Sheet 3.14
A2: Change over Q2 of 2025 in male employees in tourism activities by region
A3: Table 3.14
A4: Administrative regions | C4: Q2 of 2025 | D4: Q2 of 2026 | E4: Change rate
A5: 1 | B5: Ar Riyadh | C5: 277406 | D5: 297056 | E5: =(D5-C5)/C5 -> 0.070834805
A6: 2 | B6: Makkah Al Mukarramah | C6: 239622 | D6: 260027 | E6: =(D6-C6)/C6 -> 0.085154952
A7: 3 | B7: Al Madinah Al Munawwarah | C7: 54369 | D7: 56905 | E7: =(D7-C7)/C7 -> 0.046644227
A8: 4 | B8: Al Qaseem | C8: 29850 | D8: 32145 | E8: =(D8-C8)/C8 -> 0.076884422
A9: 5 | B9: Eastern region | C9: 130701 | D9: 137316 | E9: =(D9-C9)/C9 -> 0.050611702
A10: 6 | B10: Aseer | C10: 43635 | D10: 45789 | E10: =(D10-C10)/C10 -> 0.049364043
A11: 7 | B11: Tabuk | C11: 20410 | D11: 25300 | E11: =(D11-C11)/C11 -> 0.23958844
A12: 8 | B12: Hail | C12: 11984 | D12: 12990 | E12: =(D12-C12)/C12 -> 0.08394526
A13: 9 | B13: Northern Borders | C13: 6933 | D13: 7038 | E13: =(D13-C13)/C13 -> 0.015144959
A14: 10 | B14: Jazan | C14: 26541 | D14: 27320 | E14: =(D14-C14)/C14 -> 0.029350816
A15: 11 | B15: Najran | C15: 10054 | D15: 11808 | E15: =(D15-C15)/C15 -> 0.17445793
A16: 12 | B16: Al Bahah | C16: 6488 | D16: 6687 | E16: =(D16-C16)/C16 -> 0.03067201
A17: 13 | B17: Al Jawf | C17: 7633 | D17: 8026 | E17: =(D17-C17)/C17 -> 0.051486964
A18: Total | C18: =SUM(C5:C17) -> 865626 | D18: 928407 | E18: =(D18-C18)/C18 -> 0.072526703
A19: Source: The Ministry of Human Resources and Social Development. | D19: Back to Main Menu

Sheet 3.15
A2: Change over Q2 of 2025 in female employees in tourism activities by activity
A3: Table 3.15
A4: Administrative regions | C4: Q2 of 2025 | D4: Q2 of 2026 | E4: Change rate
A5: 1 | B5: Ar Riyadh | C5: 51676 | D5: 56859 | E5: =(D5-C5)/C5 -> 0.10029801
A6: 2 | B6: Makkah Al Mukarramah | C6: 38796 | D6: 38903 | E6: =(D6-C6)/C6 -> 0.0027580163
A7: 3 | B7: Al Madinah Al Munawwarah | C7: 6558 | D7: 6818 | E7: =(D7-C7)/C7 -> 0.039646234
A8: 4 | B8: Al Qaseem | C8: 2800 | D8: 3040 | E8: =(D8-C8)/C8 -> 0.085714286
A9: 5 | B9: Eastern region | C9: 19620 | D9: 21599 | E9: =(D9-C9)/C9 -> 0.10086646
A10: 6 | B10: Aseer | C10: 4081 | D10: 4380 | E10: =(D10-C10)/C10 -> 0.073266356
A11: 7 | B11: Tabuk | C11: 2574 | D11: 3436 | E11: =(D11-C11)/C11 -> 0.33488733
A12: 8 | B12: Hail | C12: 1063 | D12: 937 | E12: =(D12-C12)/C12 -> -0.11853246
A13: 9 | B13: Northern Borders | C13: 503 | D13: 565 | E13: =(D13-C13)/C13 -> 0.12326044
A14: 10 | B14: Jazan | C14: 2063 | D14: 2038 | E14: =(D14-C14)/C14 -> -0.012118274
A15: 11 | B15: Najran | C15: 882 | D15: 1004 | E15: =(D15-C15)/C15 -> 0.138322
A16: 12 | B16: Al Bahah | C16: 532 | D16: 552 | E16: =(D16-C16)/C16 -> 0.037593985
A17: 13 | B17: Al Jawf | C17: 583 | D17: 582 | E17: =(D17-C17)/C17 -> -0.0017152659
A18: Total | C18: =SUM(C5:C17) -> 131731 | D18: 140713 | E18: =(D18-C18)/C18 -> 0.068184406
A19: Source: The Ministry of Human Resources and Social Development. | D19: Back to Main Menu

Sheet 3.16
A2: Change over Q2 of 2025 in total employees in tourism activities by region
A3: Table 3.16
A4: Administrative regions | C4: Q2 of 2025 | D4: Q2 of 2026 | E4: Change rate
A5: 1 | B5: Ar Riyadh | C5: ='3.12'!C5+'3.13'!C5 -> 329082 | D5: ='3.6'!E5 -> 353915 | E5: =(D5-C5)/C5 -> 0.075461435
A6: 2 | B6: Makkah Al Mukarramah | C6: ='3.12'!C6+'3.13'!C6 -> 278418 | D6: ='3.6'!E6 -> 298930 | E6: =(D6-C6)/C6 -> 0.073673398
A7: 3 | B7: Al Madinah Al Munawwarah | C7: ='3.12'!C7+'3.13'!C7 -> 60927 | D7: ='3.6'!E7 -> 63723 | E7: =(D7-C7)/C7 -> 0.045890984
A8: 4 | B8: Al Qaseem | C8: ='3.12'!C8+'3.13'!C8 -> 32650 | D8: ='3.6'!E8 -> 35185 | E8: =(D8-C8)/C8 -> 0.077641654
A9: 5 | B9: Eastern region | C9: ='3.12'!C9+'3.13'!C9 -> 150321 | D9: ='3.6'!E9 -> 158915 | E9: =(D9-C9)/C9 -> 0.057170987
A10: 6 | B10: Aseer | C10: ='3.12'!C10+'3.13'!C10 -> 47716 | D10: ='3.6'!E10 -> 50169 | E10: =(D10-C10)/C10 -> 0.051408333
A11: 7 | B11: Tabuk | C11: ='3.12'!C11+'3.13'!C11 -> 22984 | D11: ='3.6'!E11 -> 28736 | E11: =(D11-C11)/C11 -> 0.25026105
A12: 8 | B12: Hail | C12: ='3.12'!C12+'3.13'!C12 -> 13047 | D12: ='3.6'!E12 -> 13927 | E12: =(D12-C12)/C12 -> 0.067448456
A13: 9 | B13: Northern Borders | C13: ='3.12'!C13+'3.13'!C13 -> 7436 | D13: ='3.6'!E13 -> 7603 | E13: =(D13-C13)/C13 -> 0.022458311
A14: 10 | B14: Jazan | C14: ='3.12'!C14+'3.13'!C14 -> 28604 | D14: ='3.6'!E14 -> 29358 | E14: =(D14-C14)/C14 -> 0.02635995
A15: 11 | B15: Najran | C15: ='3.12'!C15+'3.13'!C15 -> 10936 | D15: ='3.6'!E15 -> 12812 | E15: =(D15-C15)/C15 -> 0.17154353
A16: 12 | B16: Al Bahah | C16: ='3.12'!C16+'3.13'!C16 -> 7020 | D16: ='3.6'!E16 -> 7239 | E16: =(D16-C16)/C16 -> 0.031196581
A17: 13 | B17: Al Jawf | C17: ='3.12'!C17+'3.13'!C17 -> 8216 | D17: ='3.6'!E17 -> 8608 | E17: =(D17-C17)/C17 -> 0.047711782
A18: Total | C18: =SUM(C5:C17) -> 997357 | D18: =SUM(D5:D17) -> 1069120 | E18: =(D18-C18)/C18 -> 0.071953172
A19: Source: The Ministry of Human Resources and Social Development. | D19: Back to Main Menu

Sheet 4.1
A1: Tourism establishments by activity for Q2 of 2026
A3: Table 4.1
A4: Tourism activity | C4: Number of tourism establishments | D4: Activity share from total
A5: 1 | B5: Accommodation for visitors | C5: 25924 | D5: =C5/$C$17 -> 0.14441777
A6: 2 | B6: Food and beverage serving activities | C6: 115697 | D6: =C6/$C$17 -> 0.6445264
A7: 3 | B7: Railway passenger transport | C7: 438 | D7: =C7/$C$17 -> 0.0024400163
A8: 4 | B8: Road passenger transport | C8: 4475 | D8: =C8/$C$17 -> 0.02492939
A9: 5 | B9: Water passenger transport | C9: 667 | D9: =C9/$C$17 -> 0.0037157325
A10: 6 | B10: Air passenger transport | C10: 246 | D10: =C10/$C$17 -> 0.0013704201
A11: 7 | B11: Transport equipment rental | C11: 1658 | D11: =C11/$C$17 -> 0.0092364086
A12: 8 | B12: Travel agencies and other reservation services activities | C12: 3741 | D12: =C12/$C$17 -> 0.020840413
A13: 9 | B13: Cultural activities | C13: 392 | D13: =C13/$C$17 -> 0.0021837589
A14: 10 | B14: Sports and recreational activities | C14: 5374 | D14: =C14/$C$17 -> 0.029937551
A15: 11 | B15: Other tourism characteristic services in the country | C15: 3499 | D15: =C15/$C$17 -> 0.019492276
A16: 12 | B16: Retail trade of tourism characteristic goods in the country | C16: 17396 | D16: =C16/$C$17 -> 0.09690987
A17: Total | C17: 179507 | D17: =C17/$C$17 -> 1
A18: Source: The Ministry of Human Resources and Social Development - The number includes establishments that have employees. | C18: Back to Main Menu

Sheet 4.2
A1: Tourism establishments by regions for Q2 of 2026
A3: Table 4.2
A4: Administrative regions | C4: Number of tourism establishments | D4: Region share from total
A5: 1 | B5: Ar Riyadh | C5: 45546 | D5: =C5/$C$18 -> 0.25372827
A6: 2 | B6: Makkah Al Mukarramah | C6: 46315 | D6: =C6/$C$18 -> 0.25801222
A7: 3 | B7: Al Madinah Al Munawwarah | C7: 13065 | D7: =C7/$C$18 -> 0.072782677
A8: 4 | B8: Al Qaseem | C8: 8151 | D8: =C8/$C$18 -> 0.0454077
A9: 5 | B9: Eastern region | C9: 25132 | D9: =C9/$C$18 -> 0.14000568
A10: 6 | B10: Aseer | C10: 13031 | D10: =C10/$C$18 -> 0.072593269
A11: 7 | B11: Tabuk | C11: 5553 | D11: =C11/$C$18 -> 0.030934727
A12: 8 | B12: Hail | C12: 3793 | D12: =C12/$C$18 -> 0.021130095
A13: 9 | B13: Northern Borders | C13: 2148 | D13: =C13/$C$18 -> 0.011966107
A14: 10 | B14: Jazan | C14: 8637 | D14: =C14/$C$18 -> 0.048115115
A15: 11 | B15: Najran | C15: 3797 | D15: =C15/$C$18 -> 0.021152378
A16: 12 | B16: Al Bahah | C16: 1788 | D16: =C16/$C$18 -> 0.0099606143
A17: 13 | B17: Al Jawf | C17: 2551 | D17: =C17/$C$18 -> 0.014211145
A18: Total | C18: 179507 | D18: =C18/$C$18 -> 1
A19: Source: The Ministry of Human Resources and Social Development - The number includes establishments that have employees. | D19: Back to Main Menu

Sheet ورقة1
